FILENAME: O4610860.SES.1005954.tif
QUADRANGLE_NAME: NORTH FORK CROOKED CREEK WEST
QUADRANT: SE
WEST_LONGITUDE: -108 33 45.00000
EAST_LONGITUDE: -108 30 0.00000
NORTH_LATITUDE: 46 3 45.00000
SOUTH_LATITUDE: 46 0 0.00000
PRODUCTION_DATE: 1999 4 13
RASTER_ORDER: LEFT_RIGHT/TOP_BOTTOM
BAND_ORGANIZATION: SINGLE FILE
BAND_CONTENT: BLACK&WHITE
BAND_CONTENT: UNDEFINED
BAND_CONTENT: UNDEFINED
BITS_PER_PIXEL: 8
SAMPLES_AND_LINES: 5708 7704
HORIZONTAL_DATUM: NAD83
HORIZONTAL_COORDINATE_SYSTEM: UTM
COORDINATE_ZONE: 12
HORIZONTAL_UNITS: METERS
HORIZONTAL_RESOLUTION: 1.00000
SECONDARY_HORIZONTAL_DATUM: NAD27
XY_ORIGIN: 688172.00000 5104331.00000
SECONDARY_XY_ORIGIN: 688231.15300 5104119.54200
NATION: US
NATION: "SCIENCE
STATE: MT
NW_QUAD_CORNER_XY: 688526.60700 5103880.29300
NE_QUAD_CORNER_XY: 693360.51300 5104030.37000
SE_QUAD_CORNERY_XY: 693578.71900 5097086.38400
SW_QUAD_CORNER_XY: 688739.35100 5096936.29500
SECONDARY_NW_QUAD_XY: 688532.30300 5103662.36700
SECONDARY_NE_QUAD_XY: 693366.35500 5103812.44900
SECONDARY_SE_QUAD_XY: 693584.56000 5096868.50400
SECONDARY_SW_QUAD_XY: 688745.04600 5096718.41100
RMSE_XY: 1.90000
IMAGE_SOURCE: BLACK AND WHITE FILM
SOURCE_IMAGE_ID: NAPP 9138 039
SOURCE_IMAGE_DATE: 1996 08 23
SOURCE_DEM_DATE: 1973 00 00
AGENCY: WESTERN MAPPING CENTER (WMC)
PRODUCER: UNDEFINED
PRODUCTION_SYSTEM: GIS/MAGIC
COMPRESSION: UNDEFINED
STANDARD_VERSION: 1996 12
METADATA_DATE: 1999 05 18
DATA_FILE_SIZE: 43980140
BYTE_COUNT: 5708
