FILENAME: O4610859.NWS.1005802.tif
QUADRANGLE_NAME: HAY BASIN SOUTH
QUADRANT: NW
WEST_LONGITUDE: -108 45 0.00000
EAST_LONGITUDE: -108 41 15.00000
NORTH_LATITUDE: 46 7 30.00000
SOUTH_LATITUDE: 46 3 45.00000
PRODUCTION_DATE: 1999 4 13
RASTER_ORDER: LEFT_RIGHT/TOP_BOTTOM
BAND_ORGANIZATION: SINGLE FILE
BAND_CONTENT: BLACK&WHITE
BAND_CONTENT: UNDEFINED
BAND_CONTENT: UNDEFINED
BITS_PER_PIXEL: 8
SAMPLES_AND_LINES: 5687 7692
HORIZONTAL_DATUM: NAD83
HORIZONTAL_COORDINATE_SYSTEM: UTM
COORDINATE_ZONE: 12
HORIZONTAL_UNITS: METERS
HORIZONTAL_RESOLUTION: 1.00000
SECONDARY_HORIZONTAL_DATUM: NAD27
XY_ORIGIN: 673473.00000 5110836.00000
SECONDARY_XY_ORIGIN: 673532.29300 5110624.48600
NATION: US
NATION: "SCIENCE
STATE: MT
NW_QUAD_CORNER_XY: 673828.26900 5110396.97800
NE_QUAD_CORNER_XY: 678656.73400 5110535.63300
SE_QUAD_CORNERY_XY: 678858.77000 5103591.55000
SW_QUAD_CORNER_XY: 674024.84000 5103452.88300
SECONDARY_NW_QUAD_XY: 673833.52800 5110178.99900
SECONDARY_NE_QUAD_XY: 678662.13900 5110317.65800
SECONDARY_SE_QUAD_XY: 678864.17400 5103373.61500
SECONDARY_SW_QUAD_XY: 674030.09800 5103234.94400
RMSE_XY: 0.80000
IMAGE_SOURCE: BLACK AND WHITE FILM
SOURCE_IMAGE_ID: NAPP 9140 085
SOURCE_IMAGE_DATE: 1996 08 23
SOURCE_IMAGE_ID: NAPP 9140 087
SOURCE_IMAGE_DATE: 1996 08 23
SOURCE_DEM_DATE: 1973 00 00
AGENCY: WESTERN MAPPING CENTER (WMC)
PRODUCER: UNDEFINED
PRODUCTION_SYSTEM: GIS/MAGIC
COMPRESSION: UNDEFINED
STANDARD_VERSION: 1996 12
METADATA_DATE: 1999 05 18
DATA_FILE_SIZE: 43750091
BYTE_COUNT: 5687
