FILENAME: O4610859.SES.1005803.tif
QUADRANGLE_NAME: HAY BASIN SOUTH
QUADRANT: SE
WEST_LONGITUDE: -108 41 15.00000
EAST_LONGITUDE: -108 37 30.00000
NORTH_LATITUDE: 46 3 45.00000
SOUTH_LATITUDE: 46 0 0.00000
PRODUCTION_DATE: 1999 4 13
RASTER_ORDER: LEFT_RIGHT/TOP_BOTTOM
BAND_ORGANIZATION: SINGLE FILE
BAND_CONTENT: BLACK&WHITE
BAND_CONTENT: UNDEFINED
BAND_CONTENT: UNDEFINED
BITS_PER_PIXEL: 8
SAMPLES_AND_LINES: 5698 7697
HORIZONTAL_DATUM: NAD83
HORIZONTAL_COORDINATE_SYSTEM: UTM
COORDINATE_ZONE: 12
HORIZONTAL_UNITS: METERS
HORIZONTAL_RESOLUTION: 1.00000
SECONDARY_HORIZONTAL_DATUM: NAD27
XY_ORIGIN: 678503.00000 5104035.00000
SECONDARY_XY_ORIGIN: 678562.26600 5103823.62200
NATION: US
NATION: "SCIENCE
STATE: MT
NW_QUAD_CORNER_XY: 678858.77000 5103591.55000
NE_QUAD_CORNER_XY: 683692.69300 5103734.01900
SE_QUAD_CORNERY_XY: 683899.97600 5096790.01100
SW_QUAD_CORNER_XY: 679060.59300 5096647.53000
SECONDARY_NW_QUAD_XY: 678864.17400 5103373.61500
SECONDARY_NE_QUAD_XY: 683698.24200 5103516.08900
SECONDARY_SE_QUAD_XY: 683905.52400 5096572.12200
SECONDARY_SW_QUAD_XY: 679065.99500 5096429.63700
RMSE_XY: 1.50000
IMAGE_SOURCE: BLACK AND WHITE FILM
SOURCE_IMAGE_ID: NAPP 9138 299
SOURCE_IMAGE_DATE: 1996 08 23
SOURCE_IMAGE_ID: NAPP 9138 298
SOURCE_IMAGE_DATE: 1996 08 23
SOURCE_DEM_DATE: 1973 00 00
AGENCY: WESTERN MAPPING CENTER (WMC)
PRODUCER: UNDEFINED
PRODUCTION_SYSTEM: GIS/MAGIC
COMPRESSION: UNDEFINED
STANDARD_VERSION: 1996 12
METADATA_DATE: 1999 05 18
DATA_FILE_SIZE: 43863204
BYTE_COUNT: 5698
