FILENAME: O4610858.SES.1005799.tif
QUADRANGLE_NAME: BROADVIEW EAST
QUADRANT: SE
WEST_LONGITUDE: -108 48 45.00000
EAST_LONGITUDE: -108 45 0.00000
NORTH_LATITUDE: 46 3 45.00000
SOUTH_LATITUDE: 46 0 0.00000
PRODUCTION_DATE: 1999 4 13
RASTER_ORDER: LEFT_RIGHT/TOP_BOTTOM
BAND_ORGANIZATION: SINGLE FILE
BAND_CONTENT: BLACK&WHITE
BAND_CONTENT: UNDEFINED
BAND_CONTENT: UNDEFINED
BITS_PER_PIXEL: 8
SAMPLES_AND_LINES: 5688 7688
HORIZONTAL_DATUM: NAD83
HORIZONTAL_COORDINATE_SYSTEM: UTM
COORDINATE_ZONE: 12
HORIZONTAL_UNITS: METERS
HORIZONTAL_RESOLUTION: 1.00000
SECONDARY_HORIZONTAL_DATUM: NAD27
XY_ORIGIN: 668835.00000 5103753.00000
SECONDARY_XY_ORIGIN: 668894.45800 5103541.72300
NATION: US
NATION: "SCIENCE
STATE: MT
NW_QUAD_CORNER_XY: 669190.90300 5103318.01900
NE_QUAD_CORNER_XY: 674024.84000 5103452.88300
SE_QUAD_CORNERY_XY: 674221.20300 5096508.85300
SW_QUAD_CORNER_XY: 669381.80600 5096373.97800
SECONDARY_NW_QUAD_XY: 669196.01400 5103100.07600
SECONDARY_NE_QUAD_XY: 674030.09800 5103234.94400
SECONDARY_SE_QUAD_XY: 674226.45900 5096290.95600
SECONDARY_SW_QUAD_XY: 669386.91600 5096156.07700
RMSE_XY: 1.60000
IMAGE_SOURCE: BLACK AND WHITE FILM
SOURCE_IMAGE_ID: NAPP 9141 040
SOURCE_IMAGE_DATE: 1996 08 23
SOURCE_DEM_DATE: 1979 00 00
AGENCY: WESTERN MAPPING CENTER (WMC)
PRODUCER: UNDEFINED
PRODUCTION_SYSTEM: GIS/MAGIC
COMPRESSION: UNDEFINED
STANDARD_VERSION: 1996 12
METADATA_DATE: 1999 05 18
DATA_FILE_SIZE: 43735032
BYTE_COUNT: 5688
