FILENAME: O4610857.NES.1005743.tif
QUADRANGLE_NAME: BROADVIEW WEST
QUADRANT: NE
WEST_LONGITUDE: -108 56 15.00000
EAST_LONGITUDE: -108 52 30.00000
NORTH_LATITUDE: 46 7 30.00000
SOUTH_LATITUDE: 46 3 45.00000
PRODUCTION_DATE: 1999 4 13
RASTER_ORDER: LEFT_RIGHT/TOP_BOTTOM
BAND_ORGANIZATION: SINGLE FILE
BAND_CONTENT: BLACK&WHITE
BAND_CONTENT: UNDEFINED
BAND_CONTENT: UNDEFINED
BITS_PER_PIXEL: 8
SAMPLES_AND_LINES: 5672 7682
HORIZONTAL_DATUM: NAD83
HORIZONTAL_COORDINATE_SYSTEM: UTM
COORDINATE_ZONE: 12
HORIZONTAL_UNITS: METERS
HORIZONTAL_RESOLUTION: 1.00000
SECONDARY_HORIZONTAL_DATUM: NAD27
XY_ORIGIN: 658986.00000 5110432.00000
SECONDARY_XY_ORIGIN: 659045.70200 5110220.57600
NATION: US
NATION: "SCIENCE
STATE: MT
NW_QUAD_CORNER_XY: 659342.83000 5110003.82500
NE_QUAD_CORNER_XY: 664171.31700 5110131.07400
SE_QUAD_CORNERY_XY: 664356.95800 5103186.95700
SW_QUAD_CORNER_XY: 659523.00600 5103059.69800
SECONDARY_NW_QUAD_XY: 659347.65000 5109785.83400
SECONDARY_NE_QUAD_XY: 664176.28400 5109913.08700
SECONDARY_SE_QUAD_XY: 664361.92300 5102969.01100
SECONDARY_SW_QUAD_XY: 659527.82500 5102841.74700
RMSE_XY: 1.30000
IMAGE_SOURCE: BLACK AND WHITE FILM
SOURCE_IMAGE_ID: NAPP 9147 071
SOURCE_IMAGE_DATE: 1996 08 24
SOURCE_IMAGE_ID: NAPP 9147 069
SOURCE_IMAGE_DATE: 1996 08 24
SOURCE_IMAGE_ID: NAPP 9147 072
SOURCE_IMAGE_DATE: 1996 08 24
SOURCE_DEM_DATE: 1980 00 00
AGENCY: WESTERN MAPPING CENTER (WMC)
PRODUCER: UNDEFINED
PRODUCTION_SYSTEM: GIS/MAGIC
COMPRESSION: UNDEFINED
STANDARD_VERSION: 1996 12
METADATA_DATE: 1999 05 18
DATA_FILE_SIZE: 43577976
BYTE_COUNT: 5672
