FILENAME: O4610857.NWS.1005744.tif
QUADRANGLE_NAME: BROADVIEW WEST
QUADRANT: NW
WEST_LONGITUDE: -109 0 0.00000
EAST_LONGITUDE: -108 56 15.00000
NORTH_LATITUDE: 46 7 30.00000
SOUTH_LATITUDE: 46 3 45.00000
PRODUCTION_DATE: 1999 4 13
RASTER_ORDER: LEFT_RIGHT/TOP_BOTTOM
BAND_ORGANIZATION: SINGLE FILE
BAND_CONTENT: BLACK&WHITE
BAND_CONTENT: UNDEFINED
BAND_CONTENT: UNDEFINED
BITS_PER_PIXEL: 8
SAMPLES_AND_LINES: 5667 7677
HORIZONTAL_DATUM: NAD83
HORIZONTAL_COORDINATE_SYSTEM: UTM
COORDINATE_ZONE: 12
HORIZONTAL_UNITS: METERS
HORIZONTAL_RESOLUTION: 1.00000
SECONDARY_HORIZONTAL_DATUM: NAD27
XY_ORIGIN: 654158.00000 5110304.00000
SECONDARY_XY_ORIGIN: 654217.83600 5110092.60100
NATION: US
NATION: "SCIENCE
STATE: MT
NW_QUAD_CORNER_XY: 654514.33500 5109880.37700
NE_QUAD_CORNER_XY: 659342.83000 5110003.82500
SE_QUAD_CORNERY_XY: 659523.00600 5103059.69800
SW_QUAD_CORNER_XY: 654689.04700 5102936.24000
SECONDARY_NW_QUAD_XY: 654519.00900 5109662.38200
SECONDARY_NE_QUAD_XY: 659347.65000 5109785.83400
SECONDARY_SE_QUAD_XY: 659527.82500 5102841.74700
SECONDARY_SW_QUAD_XY: 654693.72000 5102718.28600
RMSE_XY: 1.00000
IMAGE_SOURCE: BLACK AND WHITE FILM
SOURCE_IMAGE_ID: NAPP 9147 260
SOURCE_IMAGE_DATE: 1996 08 24
SOURCE_IMAGE_ID: NAPP 9147 262
SOURCE_IMAGE_DATE: 1996 08 24
SOURCE_DEM_DATE: 1980 00 00
AGENCY: WESTERN MAPPING CENTER (WMC)
PRODUCER: UNDEFINED
PRODUCTION_SYSTEM: GIS/MAGIC
COMPRESSION: UNDEFINED
STANDARD_VERSION: 1996 12
METADATA_DATE: 1999 05 18
DATA_FILE_SIZE: 43511226
BYTE_COUNT: 5667
