FILENAME: O4610857.SWS.1005746.tif
QUADRANGLE_NAME: BROADVIEW WEST
QUADRANT: SW
WEST_LONGITUDE: -109 0 0.00000
EAST_LONGITUDE: -108 56 15.00000
NORTH_LATITUDE: 46 3 45.00000
SOUTH_LATITUDE: 46 0 0.00000
PRODUCTION_DATE: 1999 4 13
RASTER_ORDER: LEFT_RIGHT/TOP_BOTTOM
BAND_ORGANIZATION: SINGLE FILE
BAND_CONTENT: BLACK&WHITE
BAND_CONTENT: UNDEFINED
BAND_CONTENT: UNDEFINED
BITS_PER_PIXEL: 8
SAMPLES_AND_LINES: 5672 7677
HORIZONTAL_DATUM: NAD83
HORIZONTAL_COORDINATE_SYSTEM: UTM
COORDINATE_ZONE: 12
HORIZONTAL_UNITS: METERS
HORIZONTAL_RESOLUTION: 1.00000
SECONDARY_HORIZONTAL_DATUM: NAD27
XY_ORIGIN: 654332.00000 5103360.00000
SECONDARY_XY_ORIGIN: 654391.84100 5103148.86800
NATION: US
NATION: "SCIENCE
STATE: MT
NW_QUAD_CORNER_XY: 654689.04700 5102936.24000
NE_QUAD_CORNER_XY: 659523.00600 5103059.69800
SE_QUAD_CORNERY_XY: 659702.99100 5096115.63800
SW_QUAD_CORNER_XY: 654863.57300 5095992.17100
SECONDARY_NW_QUAD_XY: 654693.72000 5102718.28600
SECONDARY_NE_QUAD_XY: 659527.82500 5102841.74700
SECONDARY_SE_QUAD_XY: 659707.80900 5095897.72900
SECONDARY_SW_QUAD_XY: 654868.24600 5095774.25800
RMSE_XY: 1.50000
IMAGE_SOURCE: BLACK AND WHITE FILM
SOURCE_IMAGE_ID: NAPP 9147 262
SOURCE_IMAGE_DATE: 1996 08 24
SOURCE_IMAGE_ID: NAPP 9147 260
SOURCE_IMAGE_DATE: 1996 08 24
SOURCE_IMAGE_ID: NAPP 9147 069
SOURCE_IMAGE_DATE: 1996 08 24
SOURCE_DEM_DATE: 1980 00 00
AGENCY: WESTERN MAPPING CENTER (WMC)
PRODUCER: UNDEFINED
PRODUCTION_SYSTEM: GIS/MAGIC
COMPRESSION: UNDEFINED
STANDARD_VERSION: 1996 12
METADATA_DATE: 1999 05 18
DATA_FILE_SIZE: 43549616
BYTE_COUNT: 5672
