FILENAME: O4610855.SWS.1006364.tif
QUADRANGLE_NAME: P K RANCH
QUADRANT: SW
WEST_LONGITUDE: -108 15 0.00000
EAST_LONGITUDE: -108 11 15.00000
NORTH_LATITUDE: 46 11 15.00000
SOUTH_LATITUDE: 46 7 30.00000
PRODUCTION_DATE: 1999 4 21
RASTER_ORDER: LEFT_RIGHT/TOP_BOTTOM
BAND_ORGANIZATION: SINGLE FILE
BAND_CONTENT: BLACK&WHITE
BAND_CONTENT: UNDEFINED
BAND_CONTENT: UNDEFINED
BITS_PER_PIXEL: 8
SAMPLES_AND_LINES: 5724 7722
HORIZONTAL_DATUM: NAD83
HORIZONTAL_COORDINATE_SYSTEM: UTM
COORDINATE_ZONE: 12
HORIZONTAL_UNITS: METERS
HORIZONTAL_RESOLUTION: 1.00000
SECONDARY_HORIZONTAL_DATUM: NAD27
XY_ORIGIN: 711862.00000 5119026.00000
SECONDARY_XY_ORIGIN: 711920.56300 5118813.66100
NATION: US
NATION: "SCIENCE
STATE: MT
NW_QUAD_CORNER_XY: 712215.17600 5118556.77100
NE_QUAD_CORNER_XY: 717038.09200 5118725.84300
SE_QUAD_CORNERY_XY: 717284.13300 5111781.80400
SW_QUAD_CORNER_XY: 712455.74100 5111612.71700
SECONDARY_NW_QUAD_XY: 712221.60500 5118338.78900
SECONDARY_NE_QUAD_XY: 717044.66700 5118507.86600
SECONDARY_SE_QUAD_XY: 717290.70700 5111563.86700
SECONDARY_SW_QUAD_XY: 712462.16900 5111394.77500
RMSE_XY: 2.20000
IMAGE_SOURCE: BLACK AND WHITE FILM
SOURCE_IMAGE_ID: NAPP 9146 039
SOURCE_IMAGE_DATE: 1996 08 24
SOURCE_IMAGE_ID: NAPP 9146 041
SOURCE_IMAGE_DATE: 1996 08 24
SOURCE_IMAGE_ID: NAPP 9146 037
SOURCE_IMAGE_DATE: 1996 08 24
SOURCE_DEM_DATE: 1973 00 00
AGENCY: WESTERN MAPPING CENTER (WMC)
PRODUCER: UNDEFINED
PRODUCTION_SYSTEM: GIS/MAGIC
COMPRESSION: UNDEFINED
STANDARD_VERSION: 1996 12
METADATA_DATE: 1999 05 18
DATA_FILE_SIZE: 44206452
BYTE_COUNT: 5724
