FILENAME: O4610854.NES.1006150.tif
QUADRANGLE_NAME: DUNN MOUNTAIN SOUTH
QUADRANT: NE
WEST_LONGITUDE: -108 18 45.00000
EAST_LONGITUDE: -108 15 0.00000
NORTH_LATITUDE: 46 15 0.00000
SOUTH_LATITUDE: 46 11 15.00000
PRODUCTION_DATE: 1999 4 20
RASTER_ORDER: LEFT_RIGHT/TOP_BOTTOM
BAND_ORGANIZATION: SINGLE FILE
BAND_CONTENT: BLACK&WHITE
BAND_CONTENT: UNDEFINED
BAND_CONTENT: UNDEFINED
BITS_PER_PIXEL: 8
SAMPLES_AND_LINES: 5714 7718
HORIZONTAL_DATUM: NAD83
HORIZONTAL_COORDINATE_SYSTEM: UTM
COORDINATE_ZONE: 12
HORIZONTAL_UNITS: METERS
HORIZONTAL_RESOLUTION: 1.00000
SECONDARY_HORIZONTAL_DATUM: NAD27
XY_ORIGIN: 706803.00000 5125801.00000
SECONDARY_XY_ORIGIN: 706861.51500 5125588.48800
NATION: US
NATION: "SCIENCE
STATE: MT
NW_QUAD_CORNER_XY: 707156.91000 5125335.63200
NE_QUAD_CORNER_XY: 711974.35600 5125500.88400
SE_QUAD_CORNERY_XY: 712215.17600 5118556.77100
SW_QUAD_CORNER_XY: 707392.24900 5118391.50400
SECONDARY_NW_QUAD_XY: 707163.19400 5125117.60600
SECONDARY_NE_QUAD_XY: 711980.78700 5125282.86300
SECONDARY_SE_QUAD_XY: 712221.60500 5118338.78900
SECONDARY_SW_QUAD_XY: 707398.53200 5118173.51700
RMSE_XY: 1.80000
IMAGE_SOURCE: BLACK AND WHITE FILM
SOURCE_IMAGE_ID: NAPP 9134 042
SOURCE_IMAGE_DATE: 1996 08 10
SOURCE_IMAGE_ID: NAPP 9137 071
SOURCE_IMAGE_DATE: 1996 08 23
SOURCE_IMAGE_ID: NAPP 9134 041
SOURCE_IMAGE_DATE: 1996 08 10
SOURCE_IMAGE_ID: NAPP 9146 038
SOURCE_IMAGE_DATE: 1996 08 24
SOURCE_DEM_DATE: 1989 00 00
AGENCY: WESTERN MAPPING CENTER (WMC)
PRODUCER: UNDEFINED
PRODUCTION_SYSTEM: GIS/MAGIC
COMPRESSION: UNDEFINED
STANDARD_VERSION: 1996 12
METADATA_DATE: 1999 05 18
DATA_FILE_SIZE: 44106366
BYTE_COUNT: 5714
