FILENAME: O4610853.NES.1006000.tif
QUADRANGLE_NAME: PARK COULEE
QUADRANT: NE
WEST_LONGITUDE: -108 26 15.00000
EAST_LONGITUDE: -108 22 30.00000
NORTH_LATITUDE: 46 15 0.00000
SOUTH_LATITUDE: 46 11 15.00000
PRODUCTION_DATE: 1999 4 19
RASTER_ORDER: LEFT_RIGHT/TOP_BOTTOM
BAND_ORGANIZATION: SINGLE FILE
BAND_CONTENT: BLACK&WHITE
BAND_CONTENT: UNDEFINED
BAND_CONTENT: UNDEFINED
BITS_PER_PIXEL: 8
SAMPLES_AND_LINES: 5703 7711
HORIZONTAL_DATUM: NAD83
HORIZONTAL_COORDINATE_SYSTEM: UTM
COORDINATE_ZONE: 12
HORIZONTAL_UNITS: METERS
HORIZONTAL_RESOLUTION: 1.00000
SECONDARY_HORIZONTAL_DATUM: NAD27
XY_ORIGIN: 697168.00000 5125475.00000
SECONDARY_XY_ORIGIN: 697226.67400 5125262.67700
NATION: US
NATION: "SCIENCE
STATE: MT
NW_QUAD_CORNER_XY: 697521.98600 5125016.53900
NE_QUAD_CORNER_XY: 702339.45300 5125174.18400
SE_QUAD_CORNERY_XY: 702569.31200 5118230.04100
SW_QUAD_CORNER_XY: 697746.36500 5118072.38200
SECONDARY_NW_QUAD_XY: 697527.97800 5124798.50400
SECONDARY_NE_QUAD_XY: 702345.59100 5124956.15300
SECONDARY_SE_QUAD_XY: 702575.44800 5118012.04900
SECONDARY_SW_QUAD_XY: 697752.35500 5117854.38500
RMSE_XY: 3.20000
IMAGE_SOURCE: BLACK AND WHITE FILM
SOURCE_IMAGE_ID: NAPP 9137 151
SOURCE_IMAGE_DATE: 1996 08 23
SOURCE_IMAGE_ID: NAPP 9137 219
SOURCE_IMAGE_DATE: 1996 08 23
SOURCE_IMAGE_ID: NAPP 9137 218
SOURCE_IMAGE_DATE: 1996 08 23
SOURCE_IMAGE_ID: NAPP 9137 150
SOURCE_IMAGE_DATE: 1996 08 23
SOURCE_IMAGE_ID: NAPP 9137 152
SOURCE_IMAGE_DATE: 1996 08 23
SOURCE_DEM_DATE: 1988 00 00
AGENCY: WESTERN MAPPING CENTER (WMC)
PRODUCER: UNDEFINED
PRODUCTION_SYSTEM: GIS/MAGIC
COMPRESSION: UNDEFINED
STANDARD_VERSION: 1996 12
METADATA_DATE: 1999 05 18
DATA_FILE_SIZE: 43981536
BYTE_COUNT: 5703
