FILENAME: O4610853.SES.1006005.tif
QUADRANGLE_NAME: PARK COULEE
QUADRANT: SE
WEST_LONGITUDE: -108 26 15.00000
EAST_LONGITUDE: -108 22 30.00000
NORTH_LATITUDE: 46 11 15.00000
SOUTH_LATITUDE: 46 7 30.00000
PRODUCTION_DATE: 1999 4 19
RASTER_ORDER: LEFT_RIGHT/TOP_BOTTOM
BAND_ORGANIZATION: SINGLE FILE
BAND_CONTENT: BLACK&WHITE
BAND_CONTENT: UNDEFINED
BAND_CONTENT: UNDEFINED
BITS_PER_PIXEL: 8
SAMPLES_AND_LINES: 5708 7711
HORIZONTAL_DATUM: NAD83
HORIZONTAL_COORDINATE_SYSTEM: UTM
COORDINATE_ZONE: 12
HORIZONTAL_UNITS: METERS
HORIZONTAL_RESOLUTION: 1.00000
SECONDARY_HORIZONTAL_DATUM: NAD27
XY_ORIGIN: 697392.00000 5118531.00000
SECONDARY_XY_ORIGIN: 697450.79200 5118318.92500
NATION: US
NATION: "SCIENCE
STATE: MT
NW_QUAD_CORNER_XY: 697746.36500 5118072.38200
NE_QUAD_CORNER_XY: 702569.31200 5118230.04100
SE_QUAD_CORNERY_XY: 702798.92700 5111285.95800
SW_QUAD_CORNER_XY: 697970.50600 5111128.28600
SECONDARY_NW_QUAD_XY: 697752.35500 5117854.38500
SECONDARY_NE_QUAD_XY: 702575.44800 5118012.04900
SECONDARY_SE_QUAD_XY: 702805.06300 5111068.00600
SECONDARY_SW_QUAD_XY: 697976.49600 5110910.32900
RMSE_XY: 3.50000
IMAGE_SOURCE: BLACK AND WHITE FILM
SOURCE_IMAGE_ID: NAPP 9137 149
SOURCE_IMAGE_DATE: 1996 08 23
SOURCE_IMAGE_ID: NAPP 9137 219
SOURCE_IMAGE_DATE: 1996 08 23
SOURCE_IMAGE_ID: NAPP 9137 150
SOURCE_IMAGE_DATE: 1996 08 23
SOURCE_DEM_DATE: 1988 00 00
AGENCY: WESTERN MAPPING CENTER (WMC)
PRODUCER: UNDEFINED
PRODUCTION_SYSTEM: GIS/MAGIC
COMPRESSION: UNDEFINED
STANDARD_VERSION: 1996 12
METADATA_DATE: 1999 05 18
DATA_FILE_SIZE: 44020096
BYTE_COUNT: 5708
