FILENAME: O4610853.SWS.1006006.tif
QUADRANGLE_NAME: PARK COULEE
QUADRANT: SW
WEST_LONGITUDE: -108 30 0.00000
EAST_LONGITUDE: -108 26 15.00000
NORTH_LATITUDE: 46 11 15.00000
SOUTH_LATITUDE: 46 7 30.00000
PRODUCTION_DATE: 1999 4 16
RASTER_ORDER: LEFT_RIGHT/TOP_BOTTOM
BAND_ORGANIZATION: SINGLE FILE
BAND_CONTENT: BLACK&WHITE
BAND_CONTENT: UNDEFINED
BAND_CONTENT: UNDEFINED
BITS_PER_PIXEL: 8
SAMPLES_AND_LINES: 5703 7707
HORIZONTAL_DATUM: NAD83
HORIZONTAL_COORDINATE_SYSTEM: UTM
COORDINATE_ZONE: 12
HORIZONTAL_UNITS: METERS
HORIZONTAL_RESOLUTION: 1.00000
SECONDARY_HORIZONTAL_DATUM: NAD27
XY_ORIGIN: 692569.00000 5118373.00000
SECONDARY_XY_ORIGIN: 692627.87000 5118161.01600
NATION: US
NATION: "SCIENCE
STATE: MT
NW_QUAD_CORNER_XY: 692923.40800 5117918.52700
NE_QUAD_CORNER_XY: 697746.36500 5118072.38200
SE_QUAD_CORNERY_XY: 697970.50600 5111128.28600
SW_QUAD_CORNER_XY: 693142.07600 5110974.41700
SECONDARY_NW_QUAD_XY: 692929.25300 5117700.52600
SECONDARY_NE_QUAD_XY: 697752.35500 5117854.38500
SECONDARY_SE_QUAD_XY: 697976.49600 5110910.32900
SECONDARY_SW_QUAD_XY: 693147.92000 5110756.45600
RMSE_XY: 1.50000
IMAGE_SOURCE: BLACK AND WHITE FILM
SOURCE_IMAGE_ID: NAPP 9137 220
SOURCE_IMAGE_DATE: 1996 08 23
SOURCE_IMAGE_ID: NAPP 9138 044
SOURCE_IMAGE_DATE: 1996 08 23
SOURCE_IMAGE_ID: NAPP 9137 219
SOURCE_IMAGE_DATE: 1996 08 23
SOURCE_DEM_DATE: 1988 00 00
AGENCY: WESTERN MAPPING CENTER (WMC)
PRODUCER: UNDEFINED
PRODUCTION_SYSTEM: GIS/MAGIC
COMPRESSION: UNDEFINED
STANDARD_VERSION: 1996 12
METADATA_DATE: 1999 05 18
DATA_FILE_SIZE: 43958724
BYTE_COUNT: 5703
