FILENAME: O4610852.NES.1005944.tif
QUADRANGLE_NAME: HAY BASIN NE
QUADRANT: NE
WEST_LONGITUDE: -108 33 45.00000
EAST_LONGITUDE: -108 30 0.00000
NORTH_LATITUDE: 46 15 0.00000
SOUTH_LATITUDE: 46 11 15.00000
PRODUCTION_DATE: 1999 4 15
RASTER_ORDER: LEFT_RIGHT/TOP_BOTTOM
BAND_ORGANIZATION: SINGLE FILE
BAND_CONTENT: BLACK&WHITE
BAND_CONTENT: UNDEFINED
BAND_CONTENT: UNDEFINED
BITS_PER_PIXEL: 8
SAMPLES_AND_LINES: 5693 7703
HORIZONTAL_DATUM: NAD83
HORIZONTAL_COORDINATE_SYSTEM: UTM
COORDINATE_ZONE: 12
HORIZONTAL_UNITS: METERS
HORIZONTAL_RESOLUTION: 1.00000
SECONDARY_HORIZONTAL_DATUM: NAD27
XY_ORIGIN: 687532.00000 5125163.00000
SECONDARY_XY_ORIGIN: 687590.87100 5124950.86000
NATION: US
NATION: "SCIENCE
STATE: MT
NW_QUAD_CORNER_XY: 687887.02200 5124712.66000
NE_QUAD_CORNER_XY: 692704.50900 5124862.69800
SE_QUAD_CORNERY_XY: 692923.40800 5117918.52700
SW_QUAD_CORNER_XY: 688100.44200 5117768.47500
SECONDARY_NW_QUAD_XY: 687892.72100 5124494.61600
SECONDARY_NE_QUAD_XY: 692710.35500 5124644.65800
SECONDARY_SE_QUAD_XY: 692929.25300 5117700.52600
SECONDARY_SW_QUAD_XY: 688106.14000 5117550.46900
RMSE_XY: 1.70000
IMAGE_SOURCE: BLACK AND WHITE FILM
SOURCE_IMAGE_ID: NAPP 9138 045
SOURCE_IMAGE_DATE: 1996 08 23
SOURCE_IMAGE_ID: NAPP 9138 044
SOURCE_IMAGE_DATE: 1996 08 23
SOURCE_DEM_DATE: 1990 00 00
AGENCY: WESTERN MAPPING CENTER (WMC)
PRODUCER: UNDEFINED
PRODUCTION_SYSTEM: GIS/MAGIC
COMPRESSION: UNDEFINED
STANDARD_VERSION: 1996 12
METADATA_DATE: 1999 05 18
DATA_FILE_SIZE: 43858872
BYTE_COUNT: 5693
