FILENAME: O4610852.NWS.1005946.tif
QUADRANGLE_NAME: HAY BASIN NE
QUADRANT: NW
WEST_LONGITUDE: -108 37 30.00000
EAST_LONGITUDE: -108 33 45.00000
NORTH_LATITUDE: 46 15 0.00000
SOUTH_LATITUDE: 46 11 15.00000
PRODUCTION_DATE: 1999 4 14
RASTER_ORDER: LEFT_RIGHT/TOP_BOTTOM
BAND_ORGANIZATION: SINGLE FILE
BAND_CONTENT: BLACK&WHITE
BAND_CONTENT: UNDEFINED
BAND_CONTENT: UNDEFINED
BITS_PER_PIXEL: 8
SAMPLES_AND_LINES: 5687 7699
HORIZONTAL_DATUM: NAD83
HORIZONTAL_COORDINATE_SYSTEM: UTM
COORDINATE_ZONE: 12
HORIZONTAL_UNITS: METERS
HORIZONTAL_RESOLUTION: 1.00000
SECONDARY_HORIZONTAL_DATUM: NAD27
XY_ORIGIN: 682715.00000 5125013.00000
SECONDARY_XY_ORIGIN: 682773.99200 5124800.95300
NATION: US
NATION: "SCIENCE
STATE: MT
NW_QUAD_CORNER_XY: 683069.52500 5124566.42500
NE_QUAD_CORNER_XY: 687887.02200 5124712.66000
SE_QUAD_CORNERY_XY: 688100.44200 5117768.47500
SW_QUAD_CORNER_XY: 683277.46700 5117622.22700
SECONDARY_NW_QUAD_XY: 683075.07800 5124348.37600
SECONDARY_NE_QUAD_XY: 687892.72100 5124494.61600
SECONDARY_SE_QUAD_XY: 688106.14000 5117550.46900
SECONDARY_SW_QUAD_XY: 683283.01900 5117404.21600
RMSE_XY: 2.40000
IMAGE_SOURCE: BLACK AND WHITE FILM
SOURCE_IMAGE_ID: NAPP 9138 226
SOURCE_IMAGE_DATE: 1996 08 23
SOURCE_DEM_DATE: 1990 00 00
AGENCY: WESTERN MAPPING CENTER (WMC)
PRODUCER: UNDEFINED
PRODUCTION_SYSTEM: GIS/MAGIC
COMPRESSION: UNDEFINED
STANDARD_VERSION: 1996 12
METADATA_DATE: 1999 05 18
DATA_FILE_SIZE: 43789900
BYTE_COUNT: 5687
