FILENAME: O4610852.SES.1005948.tif
QUADRANGLE_NAME: HAY BASIN NE
QUADRANT: SE
WEST_LONGITUDE: -108 33 45.00000
EAST_LONGITUDE: -108 30 0.00000
NORTH_LATITUDE: 46 11 15.00000
SOUTH_LATITUDE: 46 7 30.00000
PRODUCTION_DATE: 1999 4 15
RASTER_ORDER: LEFT_RIGHT/TOP_BOTTOM
BAND_ORGANIZATION: SINGLE FILE
BAND_CONTENT: BLACK&WHITE
BAND_CONTENT: UNDEFINED
BAND_CONTENT: UNDEFINED
BITS_PER_PIXEL: 8
SAMPLES_AND_LINES: 5698 7703
HORIZONTAL_DATUM: NAD83
HORIZONTAL_COORDINATE_SYSTEM: UTM
COORDINATE_ZONE: 12
HORIZONTAL_UNITS: METERS
HORIZONTAL_RESOLUTION: 1.00000
SECONDARY_HORIZONTAL_DATUM: NAD27
XY_ORIGIN: 687746.00000 5118219.00000
SECONDARY_XY_ORIGIN: 687804.96500 5118007.08600
NATION: US
NATION: "SCIENCE
STATE: MT
NW_QUAD_CORNER_XY: 688100.44200 5117768.47500
NE_QUAD_CORNER_XY: 692923.40800 5117918.52700
SE_QUAD_CORNERY_XY: 693142.07600 5110974.41700
SW_QUAD_CORNER_XY: 688313.63700 5110824.35300
SECONDARY_NW_QUAD_XY: 688106.14000 5117550.46900
SECONDARY_NE_QUAD_XY: 692929.25300 5117700.52600
SECONDARY_SE_QUAD_XY: 693147.92000 5110756.45600
SECONDARY_SW_QUAD_XY: 688319.33400 5110606.38700
RMSE_XY: 2.20000
IMAGE_SOURCE: BLACK AND WHITE FILM
SOURCE_IMAGE_ID: NAPP 9138 043
SOURCE_IMAGE_DATE: 1996 08 23
SOURCE_IMAGE_ID: NAPP 9138 044
SOURCE_IMAGE_DATE: 1996 08 23
SOURCE_DEM_DATE: 1990 00 00
AGENCY: WESTERN MAPPING CENTER (WMC)
PRODUCER: UNDEFINED
PRODUCTION_SYSTEM: GIS/MAGIC
COMPRESSION: UNDEFINED
STANDARD_VERSION: 1996 12
METADATA_DATE: 1999 05 18
DATA_FILE_SIZE: 43897392
BYTE_COUNT: 5698
