FILENAME: O4610852.SWS.1005949.tif
QUADRANGLE_NAME: HAY BASIN NE
QUADRANT: SW
WEST_LONGITUDE: -108 37 30.00000
EAST_LONGITUDE: -108 33 45.00000
NORTH_LATITUDE: 46 11 15.00000
SOUTH_LATITUDE: 46 7 30.00000
PRODUCTION_DATE: 1999 4 14
RASTER_ORDER: LEFT_RIGHT/TOP_BOTTOM
BAND_ORGANIZATION: SINGLE FILE
BAND_CONTENT: BLACK&WHITE
BAND_CONTENT: UNDEFINED
BAND_CONTENT: UNDEFINED
BITS_PER_PIXEL: 8
SAMPLES_AND_LINES: 5693 7700
HORIZONTAL_DATUM: NAD83
HORIZONTAL_COORDINATE_SYSTEM: UTM
COORDINATE_ZONE: 12
HORIZONTAL_UNITS: METERS
HORIZONTAL_RESOLUTION: 1.00000
SECONDARY_HORIZONTAL_DATUM: NAD27
XY_ORIGIN: 682922.00000 5118069.00000
SECONDARY_XY_ORIGIN: 682981.06400 5117857.16200
NATION: US
NATION: "SCIENCE
STATE: MT
NW_QUAD_CORNER_XY: 683277.46700 5117622.22700
NE_QUAD_CORNER_XY: 688100.44200 5117768.47500
SE_QUAD_CORNERY_XY: 688313.63700 5110824.35300
SW_QUAD_CORNER_XY: 683485.19000 5110678.09100
SECONDARY_NW_QUAD_XY: 683283.01900 5117404.21600
SECONDARY_NE_QUAD_XY: 688106.14000 5117550.46900
SECONDARY_SE_QUAD_XY: 688319.33400 5110606.38700
SECONDARY_SW_QUAD_XY: 683490.74100 5110460.12100
RMSE_XY: 2.40000
IMAGE_SOURCE: BLACK AND WHITE FILM
SOURCE_IMAGE_ID: NAPP 9138 228
SOURCE_IMAGE_DATE: 1996 08 23
SOURCE_IMAGE_ID: NAPP 9140 012
SOURCE_IMAGE_DATE: 1996 08 23
SOURCE_IMAGE_ID: NAPP 9138 227
SOURCE_IMAGE_DATE: 1996 08 23
SOURCE_DEM_DATE: 1990 00 00
AGENCY: WESTERN MAPPING CENTER (WMC)
PRODUCER: UNDEFINED
PRODUCTION_SYSTEM: GIS/MAGIC
COMPRESSION: UNDEFINED
STANDARD_VERSION: 1996 12
METADATA_DATE: 1999 05 18
DATA_FILE_SIZE: 43841793
BYTE_COUNT: 5693
