FILENAME: O4610851.NES.1005937.tif
QUADRANGLE_NAME: HAY BASIN NORTH
QUADRANT: NE
WEST_LONGITUDE: -108 41 15.00000
EAST_LONGITUDE: -108 37 30.00000
NORTH_LATITUDE: 46 15 0.00000
SOUTH_LATITUDE: 46 11 15.00000
PRODUCTION_DATE: 1999 4 14
RASTER_ORDER: LEFT_RIGHT/TOP_BOTTOM
BAND_ORGANIZATION: SINGLE FILE
BAND_CONTENT: BLACK&WHITE
BAND_CONTENT: UNDEFINED
BAND_CONTENT: UNDEFINED
BITS_PER_PIXEL: 8
SAMPLES_AND_LINES: 5682 7696
HORIZONTAL_DATUM: NAD83
HORIZONTAL_COORDINATE_SYSTEM: UTM
COORDINATE_ZONE: 12
HORIZONTAL_UNITS: METERS
HORIZONTAL_RESOLUTION: 1.00000
SECONDARY_HORIZONTAL_DATUM: NAD27
XY_ORIGIN: 677897.00000 5124867.00000
SECONDARY_XY_ORIGIN: 677956.11300 5124655.04700
NATION: US
NATION: "SCIENCE
STATE: MT
NW_QUAD_CORNER_XY: 678252.01900 5124423.99200
NE_QUAD_CORNER_XY: 683069.52500 5124566.42500
SE_QUAD_CORNERY_XY: 683277.46700 5117622.22700
SW_QUAD_CORNER_XY: 678454.48300 5117479.78100
SECONDARY_NW_QUAD_XY: 678257.42600 5124205.93800
SECONDARY_NE_QUAD_XY: 683075.07800 5124348.37600
SECONDARY_SE_QUAD_XY: 683283.01900 5117404.21600
SECONDARY_SW_QUAD_XY: 678459.88900 5117261.76600
RMSE_XY: 1.10000
IMAGE_SOURCE: BLACK AND WHITE FILM
SOURCE_IMAGE_ID: NAPP 9140 014
SOURCE_IMAGE_DATE: 1996 08 23
SOURCE_IMAGE_ID: NAPP 9140 081
SOURCE_IMAGE_DATE: 1996 08 23
SOURCE_IMAGE_ID: NAPP 9140 012
SOURCE_IMAGE_DATE: 1996 08 23
SOURCE_DEM_DATE: 1973 00 00
AGENCY: WESTERN MAPPING CENTER (WMC)
PRODUCER: UNDEFINED
PRODUCTION_SYSTEM: GIS/MAGIC
COMPRESSION: UNDEFINED
STANDARD_VERSION: 1996 12
METADATA_DATE: 1999 05 18
DATA_FILE_SIZE: 43734354
BYTE_COUNT: 5682
