FILENAME: Y:\DOQQ\replacements\temp\193\O4610850.NES.1005793.tif
QUADRANGLE_NAME: BROADVIEW NE
QUADRANT: NE
WEST_LONGITUDE: -108 48 45.00000
EAST_LONGITUDE: -108 45 0.00000
NORTH_LATITUDE: 46 15 0.00000
SOUTH_LATITUDE: 46 11 15.00000
PRODUCTION_DATE: 1999 4 14
RASTER_ORDER: LEFT_RIGHT/TOP_BOTTOM
BAND_ORGANIZATION: SINGLE FILE
BAND_CONTENT: BLACK&WHITE
BAND_CONTENT: UNDEFINED
BAND_CONTENT: UNDEFINED
BITS_PER_PIXEL: 8
SAMPLES_AND_LINES: 5672 7689
HORIZONTAL_DATUM: NAD83
HORIZONTAL_COORDINATE_SYSTEM: UTM
COORDINATE_ZONE: 12
HORIZONTAL_UNITS: METERS
HORIZONTAL_RESOLUTION: 1.00000
SECONDARY_HORIZONTAL_DATUM: NAD27
XY_ORIGIN: 668261.00000 5124586.00000
SECONDARY_XY_ORIGIN: 668320.38600 5124374.12700
NATION: US
NATION: "SCIENCE
STATE: MT
NW_QUAD_CORNER_XY: 668616.98000 5124150.53200
NE_QUAD_CORNER_XY: 673434.50400 5124285.36100
SE_QUAD_CORNERY_XY: 673631.49100 5117341.13700
SW_QUAD_CORNER_XY: 668808.49000 5117206.29600
SECONDARY_NW_QUAD_XY: 668622.09400 5123932.47000
SECONDARY_NE_QUAD_XY: 673439.76500 5124067.30300
SECONDARY_SE_QUAD_XY: 673636.75000 5117123.11800
SECONDARY_SW_QUAD_XY: 668813.60300 5116988.27300
RMSE_XY: 1.60000
IMAGE_SOURCE: BLACK AND WHITE FILM
SOURCE_IMAGE_ID: NAPP 9141 046
SOURCE_IMAGE_DATE: 1996 08 23
SOURCE_DEM_DATE: 1989 00 00
AGENCY: WESTERN MAPPING CENTER (WMC)
PRODUCER: UNDEFINED
PRODUCTION_SYSTEM: GIS/MAGIC
COMPRESSION: UNDEFINED
STANDARD_VERSION: 1996 12
METADATA_DATE: 1999 05 18
DATA_FILE_SIZE: 43617680
BYTE_COUNT: 5672
