FILENAME: O4610850.NWS.1005794.tif
QUADRANGLE_NAME: BROADVIEW NE
QUADRANT: NW
WEST_LONGITUDE: -108 52 30.00000
EAST_LONGITUDE: -108 48 45.00000
NORTH_LATITUDE: 46 15 0.00000
SOUTH_LATITUDE: 46 11 15.00000
PRODUCTION_DATE: 1999 4 14
RASTER_ORDER: LEFT_RIGHT/TOP_BOTTOM
BAND_ORGANIZATION: SINGLE FILE
BAND_CONTENT: BLACK&WHITE
BAND_CONTENT: UNDEFINED
BAND_CONTENT: UNDEFINED
BITS_PER_PIXEL: 8
SAMPLES_AND_LINES: 5667 7685
HORIZONTAL_DATUM: NAD83
HORIZONTAL_COORDINATE_SYSTEM: UTM
COORDINATE_ZONE: 12
HORIZONTAL_UNITS: METERS
HORIZONTAL_RESOLUTION: 1.00000
SECONDARY_HORIZONTAL_DATUM: NAD27
XY_ORIGIN: 663443.00000 5124451.00000
SECONDARY_XY_ORIGIN: 663502.53300 5124239.10800
NATION: US
NATION: "SCIENCE
STATE: MT
NW_QUAD_CORNER_XY: 663799.44700 5124019.50400
NE_QUAD_CORNER_XY: 668616.98000 5124150.53200
SE_QUAD_CORNERY_XY: 668808.49000 5117206.29600
SW_QUAD_CORNER_XY: 663985.48000 5117075.25600
SECONDARY_NW_QUAD_XY: 663804.41600 5123801.43800
SECONDARY_NE_QUAD_XY: 668622.09400 5123932.47000
SECONDARY_SE_QUAD_XY: 668813.60300 5116988.27300
SECONDARY_SW_QUAD_XY: 663990.44800 5116857.22900
RMSE_XY: 1.90000
IMAGE_SOURCE: BLACK AND WHITE FILM
SOURCE_IMAGE_ID: NAPP 9157 020
SOURCE_IMAGE_DATE: 1997 09 05
SOURCE_IMAGE_ID: NAPP 9147 075
SOURCE_IMAGE_DATE: 1996 08 24
SOURCE_DEM_DATE: 1989 00 00
AGENCY: WESTERN MAPPING CENTER (WMC)
PRODUCER: UNDEFINED
PRODUCTION_SYSTEM: GIS/MAGIC
COMPRESSION: UNDEFINED
STANDARD_VERSION: 1996 12
METADATA_DATE: 1999 05 18
DATA_FILE_SIZE: 43556562
BYTE_COUNT: 5667
