FILENAME: O4610850.SES.1005795.tif
QUADRANGLE_NAME: BROADVIEW NE
QUADRANT: SE
WEST_LONGITUDE: -108 48 45.00000
EAST_LONGITUDE: -108 45 0.00000
NORTH_LATITUDE: 46 11 15.00000
SOUTH_LATITUDE: 46 7 30.00000
PRODUCTION_DATE: 1999 4 14
RASTER_ORDER: LEFT_RIGHT/TOP_BOTTOM
BAND_ORGANIZATION: SINGLE FILE
BAND_CONTENT: BLACK&WHITE
BAND_CONTENT: UNDEFINED
BAND_CONTENT: UNDEFINED
BITS_PER_PIXEL: 8
SAMPLES_AND_LINES: 5677 7689
HORIZONTAL_DATUM: NAD83
HORIZONTAL_COORDINATE_SYSTEM: UTM
COORDINATE_ZONE: 12
HORIZONTAL_UNITS: METERS
HORIZONTAL_RESOLUTION: 1.00000
SECONDARY_HORIZONTAL_DATUM: NAD27
XY_ORIGIN: 668453.00000 5117642.00000
SECONDARY_XY_ORIGIN: 668512.41100 5117430.32500
NATION: US
NATION: "SCIENCE
STATE: MT
NW_QUAD_CORNER_XY: 668808.49000 5117206.29600
NE_QUAD_CORNER_XY: 673631.49100 5117341.13700
SE_QUAD_CORNERY_XY: 673828.26900 5110396.97800
SW_QUAD_CORNER_XY: 668999.79700 5110262.12500
SECONDARY_NW_QUAD_XY: 668813.60300 5116988.27300
SECONDARY_NE_QUAD_XY: 673636.75000 5117123.11800
SECONDARY_SE_QUAD_XY: 673833.52800 5110178.99900
SECONDARY_SW_QUAD_XY: 669004.91000 5110044.14100
RMSE_XY: 1.30000
IMAGE_SOURCE: BLACK AND WHITE FILM
SOURCE_IMAGE_ID: NAPP 9141 044
SOURCE_IMAGE_DATE: 1996 08 23
SOURCE_IMAGE_ID: NAPP 9157 017
SOURCE_IMAGE_DATE: 1997 09 05
SOURCE_DEM_DATE: 1989 00 00
AGENCY: WESTERN MAPPING CENTER (WMC)
PRODUCER: UNDEFINED
PRODUCTION_SYSTEM: GIS/MAGIC
COMPRESSION: UNDEFINED
STANDARD_VERSION: 1996 12
METADATA_DATE: 1999 05 18
DATA_FILE_SIZE: 43656130
BYTE_COUNT: 5677
