FILENAME: O4610849.NES.1005734.tif
QUADRANGLE_NAME: BELMONT
QUADRANT: NE
WEST_LONGITUDE: -108 56 15.00000
EAST_LONGITUDE: -108 52 30.00000
NORTH_LATITUDE: 46 15 0.00000
SOUTH_LATITUDE: 46 11 15.00000
PRODUCTION_DATE: 1999 4 13
RASTER_ORDER: LEFT_RIGHT/TOP_BOTTOM
BAND_ORGANIZATION: SINGLE FILE
BAND_CONTENT: BLACK&WHITE
BAND_CONTENT: UNDEFINED
BAND_CONTENT: UNDEFINED
BITS_PER_PIXEL: 8
SAMPLES_AND_LINES: 5661 7681
HORIZONTAL_DATUM: NAD83
HORIZONTAL_COORDINATE_SYSTEM: UTM
COORDINATE_ZONE: 12
HORIZONTAL_UNITS: METERS
HORIZONTAL_RESOLUTION: 1.00000
SECONDARY_HORIZONTAL_DATUM: NAD27
XY_ORIGIN: 658626.00000 5124320.00000
SECONDARY_XY_ORIGIN: 658685.67900 5124108.08900
NATION: US
NATION: "SCIENCE
STATE: MT
NW_QUAD_CORNER_XY: 658981.90600 5123892.27800
NE_QUAD_CORNER_XY: 663799.44700 5124019.50400
SE_QUAD_CORNERY_XY: 663985.48000 5117075.25600
SW_QUAD_CORNER_XY: 659162.46300 5116948.01800
SECONDARY_NW_QUAD_XY: 658986.72800 5123674.20800
SECONDARY_NE_QUAD_XY: 663804.41600 5123801.43800
SECONDARY_SE_QUAD_XY: 663990.44800 5116857.22900
SECONDARY_SW_QUAD_XY: 659167.28500 5116729.98700
RMSE_XY: 1.00000
IMAGE_SOURCE: BLACK AND WHITE FILM
SOURCE_IMAGE_ID: NAPP 9147 075
SOURCE_IMAGE_DATE: 1996 08 24
SOURCE_IMAGE_ID: NAPP 9147 256
SOURCE_IMAGE_DATE: 1996 08 24
SOURCE_IMAGE_ID: NAPP 9147 073
SOURCE_IMAGE_DATE: 1996 08 24
SOURCE_IMAGE_ID: NAPP 9157 020
SOURCE_IMAGE_DATE: 1997 09 05
SOURCE_DEM_DATE: 1979 00 00
AGENCY: WESTERN MAPPING CENTER (WMC)
PRODUCER: UNDEFINED
PRODUCTION_SYSTEM: GIS/MAGIC
COMPRESSION: UNDEFINED
STANDARD_VERSION: 1996 12
METADATA_DATE: 1999 05 18
DATA_FILE_SIZE: 43487802
BYTE_COUNT: 5661
