FILENAME: O4610849.NWS.1005737.tif
QUADRANGLE_NAME: BELMONT
QUADRANT: NW
WEST_LONGITUDE: -109 0 0.00000
EAST_LONGITUDE: -108 56 15.00000
NORTH_LATITUDE: 46 15 0.00000
SOUTH_LATITUDE: 46 11 15.00000
PRODUCTION_DATE: 1999 4 13
RASTER_ORDER: LEFT_RIGHT/TOP_BOTTOM
BAND_ORGANIZATION: SINGLE FILE
BAND_CONTENT: BLACK&WHITE
BAND_CONTENT: UNDEFINED
BAND_CONTENT: UNDEFINED
BITS_PER_PIXEL: 8
SAMPLES_AND_LINES: 5656 7677
HORIZONTAL_DATUM: NAD83
HORIZONTAL_COORDINATE_SYSTEM: UTM
COORDINATE_ZONE: 12
HORIZONTAL_UNITS: METERS
HORIZONTAL_RESOLUTION: 1.00000
SECONDARY_HORIZONTAL_DATUM: NAD27
XY_ORIGIN: 653808.00000 5124193.00000
SECONDARY_XY_ORIGIN: 653867.82500 5123981.07000
NATION: US
NATION: "SCIENCE
STATE: MT
NW_QUAD_CORNER_XY: 654164.35700 5123768.85200
NE_QUAD_CORNER_XY: 658981.90600 5123892.27800
SE_QUAD_CORNERY_XY: 659162.46300 5116948.01800
SW_QUAD_CORNER_XY: 654339.43800 5116824.58100
SECONDARY_NW_QUAD_XY: 654169.03300 5123550.77800
SECONDARY_NE_QUAD_XY: 658986.72800 5123674.20800
SECONDARY_SE_QUAD_XY: 659167.28500 5116729.98700
SECONDARY_SW_QUAD_XY: 654344.11400 5116606.54600
RMSE_XY: 1.20000
IMAGE_SOURCE: BLACK AND WHITE FILM
SOURCE_IMAGE_ID: NAPP 9147 256
SOURCE_IMAGE_DATE: 1996 08 24
SOURCE_IMAGE_ID: NAPP 9147 258
SOURCE_IMAGE_DATE: 1996 08 24
SOURCE_IMAGE_ID: NAPP 9147 075
SOURCE_IMAGE_DATE: 1996 08 24
SOURCE_DEM_DATE: 1979 00 00
AGENCY: WESTERN MAPPING CENTER (WMC)
PRODUCER: UNDEFINED
PRODUCTION_SYSTEM: GIS/MAGIC
COMPRESSION: UNDEFINED
STANDARD_VERSION: 1996 12
METADATA_DATE: 1999 05 18
DATA_FILE_SIZE: 43426768
BYTE_COUNT: 5656
