FILENAME: O4610849.SES.1005739.tif
QUADRANGLE_NAME: BELMONT
QUADRANT: SE
WEST_LONGITUDE: -108 56 15.00000
EAST_LONGITUDE: -108 52 30.00000
NORTH_LATITUDE: 46 11 15.00000
SOUTH_LATITUDE: 46 7 30.00000
PRODUCTION_DATE: 1999 4 14
RASTER_ORDER: LEFT_RIGHT/TOP_BOTTOM
BAND_ORGANIZATION: SINGLE FILE
BAND_CONTENT: BLACK&WHITE
BAND_CONTENT: UNDEFINED
BAND_CONTENT: UNDEFINED
BITS_PER_PIXEL: 8
SAMPLES_AND_LINES: 5667 7681
HORIZONTAL_DATUM: NAD83
HORIZONTAL_COORDINATE_SYSTEM: UTM
COORDINATE_ZONE: 12
HORIZONTAL_UNITS: METERS
HORIZONTAL_RESOLUTION: 1.00000
SECONDARY_HORIZONTAL_DATUM: NAD27
XY_ORIGIN: 658806.00000 5117376.00000
SECONDARY_XY_ORIGIN: 658865.69000 5117164.33200
NATION: US
NATION: "SCIENCE
STATE: MT
NW_QUAD_CORNER_XY: 659162.46300 5116948.01800
NE_QUAD_CORNER_XY: 663985.48000 5117075.25600
SE_QUAD_CORNERY_XY: 664171.31700 5110131.07400
SW_QUAD_CORNER_XY: 659342.83000 5110003.82500
SECONDARY_NW_QUAD_XY: 659167.28500 5116729.98700
SECONDARY_NE_QUAD_XY: 663990.44800 5116857.22900
SECONDARY_SE_QUAD_XY: 664176.28400 5109913.08700
SECONDARY_SW_QUAD_XY: 659347.65000 5109785.83400
RMSE_XY: 1.50000
IMAGE_SOURCE: BLACK AND WHITE FILM
SOURCE_IMAGE_ID: NAPP 9147 073
SOURCE_IMAGE_DATE: 1996 08 24
SOURCE_IMAGE_ID: NAPP 9147 071
SOURCE_IMAGE_DATE: 1996 08 24
SOURCE_DEM_DATE: 1979 00 00
AGENCY: WESTERN MAPPING CENTER (WMC)
PRODUCER: UNDEFINED
PRODUCTION_SYSTEM: GIS/MAGIC
COMPRESSION: UNDEFINED
STANDARD_VERSION: 1996 12
METADATA_DATE: 1999 05 18
DATA_FILE_SIZE: 43533894
BYTE_COUNT: 5667
