FILENAME: O4610849.SWS.1005741.tif
QUADRANGLE_NAME: BELMONT
QUADRANT: SW
WEST_LONGITUDE: -109 0 0.00000
EAST_LONGITUDE: -108 56 15.00000
NORTH_LATITUDE: 46 11 15.00000
SOUTH_LATITUDE: 46 7 30.00000
PRODUCTION_DATE: 1999 4 13
RASTER_ORDER: LEFT_RIGHT/TOP_BOTTOM
BAND_ORGANIZATION: SINGLE FILE
BAND_CONTENT: BLACK&WHITE
BAND_CONTENT: UNDEFINED
BAND_CONTENT: UNDEFINED
BITS_PER_PIXEL: 8
SAMPLES_AND_LINES: 5661 7678
HORIZONTAL_DATUM: NAD83
HORIZONTAL_COORDINATE_SYSTEM: UTM
COORDINATE_ZONE: 12
HORIZONTAL_UNITS: METERS
HORIZONTAL_RESOLUTION: 1.00000
SECONDARY_HORIZONTAL_DATUM: NAD27
XY_ORIGIN: 653983.00000 5117249.00000
SECONDARY_XY_ORIGIN: 654042.83000 5117037.33500
NATION: US
NATION: "SCIENCE
STATE: MT
NW_QUAD_CORNER_XY: 654339.43800 5116824.58100
NE_QUAD_CORNER_XY: 659162.46300 5116948.01800
SE_QUAD_CORNERY_XY: 659342.83000 5110003.82500
SW_QUAD_CORNER_XY: 654514.33500 5109880.37700
SECONDARY_NW_QUAD_XY: 654344.11400 5116606.54600
SECONDARY_NE_QUAD_XY: 659167.28500 5116729.98700
SECONDARY_SE_QUAD_XY: 659347.65000 5109785.83400
SECONDARY_SW_QUAD_XY: 654519.00900 5109662.38200
RMSE_XY: 1.00000
IMAGE_SOURCE: BLACK AND WHITE FILM
SOURCE_IMAGE_ID: NAPP 9147 258
SOURCE_IMAGE_DATE: 1996 08 24
SOURCE_DEM_DATE: 1979 00 00
AGENCY: WESTERN MAPPING CENTER (WMC)
PRODUCER: UNDEFINED
PRODUCTION_SYSTEM: GIS/MAGIC
COMPRESSION: UNDEFINED
STANDARD_VERSION: 1996 12
METADATA_DATE: 1999 05 18
DATA_FILE_SIZE: 43470819
BYTE_COUNT: 5661
