FILENAME: O4610848.NES.1006459.tif
QUADRANGLE_NAME: STEAMBOAT BUTTE
QUADRANT: NE
WEST_LONGITUDE: -108 3 45.00000
EAST_LONGITUDE: -108 0 0.00000
NORTH_LATITUDE: 46 22 30.00000
SOUTH_LATITUDE: 46 18 45.00000
PRODUCTION_DATE: 1999 4 14
RASTER_ORDER: LEFT_RIGHT/TOP_BOTTOM
BAND_ORGANIZATION: SINGLE FILE
BAND_CONTENT: BLACK&WHITE
BAND_CONTENT: UNDEFINED
BAND_CONTENT: UNDEFINED
BITS_PER_PIXEL: 8
SAMPLES_AND_LINES: 5724 7733
HORIZONTAL_DATUM: NAD83
HORIZONTAL_COORDINATE_SYSTEM: UTM
COORDINATE_ZONE: 12
HORIZONTAL_UNITS: METERS
HORIZONTAL_RESOLUTION: 1.00000
SECONDARY_HORIZONTAL_DATUM: NAD27
XY_ORIGIN: 725559.00000 5140389.00000
SECONDARY_XY_ORIGIN: 725617.02200 5140175.67200
NATION: US
NATION: "SCIENCE
STATE: MT
NW_QUAD_CORNER_XY: 725911.28600 5139907.76800
NE_QUAD_CORNER_XY: 730717.70300 5140088.20500
SE_QUAD_CORNERY_XY: 730981.00400 5133144.04500
SW_QUAD_CORNER_XY: 726169.09200 5132963.59100
SECONDARY_NW_QUAD_XY: 725918.15800 5139689.68800
SECONDARY_NE_QUAD_XY: 730724.72100 5139870.13000
SECONDARY_SE_QUAD_XY: 730988.02100 5132926.00800
SECONDARY_SW_QUAD_XY: 726175.96300 5132745.54700
RMSE_XY: 2.30000
IMAGE_SOURCE: BLACK AND WHITE FILM
SOURCE_IMAGE_ID: NAPP 9142 065
SOURCE_IMAGE_DATE: 1996 08 24
SOURCE_IMAGE_ID: NAPP 9142 239
SOURCE_IMAGE_DATE: 1996 08 24
SOURCE_IMAGE_ID: NAPP 9142 063
SOURCE_IMAGE_DATE: 1996 08 24
SOURCE_DEM_DATE: 1973 00 00
AGENCY: WESTERN MAPPING CENTER (WMC)
PRODUCER: UNDEFINED
PRODUCTION_SYSTEM: GIS/MAGIC
COMPRESSION: UNDEFINED
STANDARD_VERSION: 1996 12
METADATA_DATE: 1999 05 18
DATA_FILE_SIZE: 44269416
BYTE_COUNT: 5724
