FILENAME: O4610848.NWS.1006460.tif
QUADRANGLE_NAME: STEAMBOAT BUTTE
QUADRANT: NW
WEST_LONGITUDE: -108 7 30.00000
EAST_LONGITUDE: -108 3 45.00000
NORTH_LATITUDE: 46 22 30.00000
SOUTH_LATITUDE: 46 18 45.00000
PRODUCTION_DATE: 1999 4 14
RASTER_ORDER: LEFT_RIGHT/TOP_BOTTOM
BAND_ORGANIZATION: SINGLE FILE
BAND_CONTENT: BLACK&WHITE
BAND_CONTENT: UNDEFINED
BAND_CONTENT: UNDEFINED
BITS_PER_PIXEL: 8
SAMPLES_AND_LINES: 5719 7729
HORIZONTAL_DATUM: NAD83
HORIZONTAL_COORDINATE_SYSTEM: UTM
COORDINATE_ZONE: 12
HORIZONTAL_UNITS: METERS
HORIZONTAL_RESOLUTION: 1.00000
SECONDARY_HORIZONTAL_DATUM: NAD27
XY_ORIGIN: 720752.00000 5140208.00000
SECONDARY_XY_ORIGIN: 720810.09200 5139994.80900
NATION: US
NATION: "SCIENCE
STATE: MT
NW_QUAD_CORNER_XY: 721104.85500 5139731.13700
NE_QUAD_CORNER_XY: 725911.28600 5139907.76800
SE_QUAD_CORNERY_XY: 726169.09200 5132963.59100
SW_QUAD_CORNER_XY: 721357.16800 5132786.94100
SECONDARY_NW_QUAD_XY: 721111.58100 5139513.05100
SECONDARY_NE_QUAD_XY: 725918.15800 5139689.68800
SECONDARY_SE_QUAD_XY: 726175.96300 5132745.54700
SECONDARY_SW_QUAD_XY: 721363.89200 5132568.89200
RMSE_XY: 1.90000
IMAGE_SOURCE: BLACK AND WHITE FILM
SOURCE_IMAGE_ID: NAPP 9142 238
SOURCE_IMAGE_DATE: 1996 08 24
SOURCE_IMAGE_ID: NAPP 9142 239
SOURCE_IMAGE_DATE: 1996 08 24
SOURCE_DEM_DATE: 1973 00 00
AGENCY: WESTERN MAPPING CENTER (WMC)
PRODUCER: UNDEFINED
PRODUCTION_SYSTEM: GIS/MAGIC
COMPRESSION: UNDEFINED
STANDARD_VERSION: 1996 12
METADATA_DATE: 1999 05 18
DATA_FILE_SIZE: 44207870
BYTE_COUNT: 5719
