FILENAME: O4610848.SES.1006461.tif
QUADRANGLE_NAME: STEAMBOAT BUTTE
QUADRANT: SE
WEST_LONGITUDE: -108 3 45.00000
EAST_LONGITUDE: -108 0 0.00000
NORTH_LATITUDE: 46 18 45.00000
SOUTH_LATITUDE: 46 15 0.00000
PRODUCTION_DATE: 1999 4 14
RASTER_ORDER: LEFT_RIGHT/TOP_BOTTOM
BAND_ORGANIZATION: SINGLE FILE
BAND_CONTENT: BLACK&WHITE
BAND_CONTENT: UNDEFINED
BAND_CONTENT: UNDEFINED
BITS_PER_PIXEL: 8
SAMPLES_AND_LINES: 5730 7733
HORIZONTAL_DATUM: NAD83
HORIZONTAL_COORDINATE_SYSTEM: UTM
COORDINATE_ZONE: 12
HORIZONTAL_UNITS: METERS
HORIZONTAL_RESOLUTION: 1.00000
SECONDARY_HORIZONTAL_DATUM: NAD27
XY_ORIGIN: 725816.00000 5133445.00000
SECONDARY_XY_ORIGIN: 725874.06200 5133231.79600
NATION: US
NATION: "SCIENCE
STATE: MT
NW_QUAD_CORNER_XY: 726169.09200 5132963.59100
NE_QUAD_CORNER_XY: 730981.00400 5133144.04500
SE_QUAD_CORNERY_XY: 731244.02900 5126199.94100
SW_QUAD_CORNER_XY: 726426.62800 5126019.46900
SECONDARY_NW_QUAD_XY: 726175.96300 5132745.54700
SECONDARY_NE_QUAD_XY: 730988.02100 5132926.00800
SECONDARY_SE_QUAD_XY: 731251.04400 5125981.94200
SECONDARY_SW_QUAD_XY: 726433.49700 5125801.46400
RMSE_XY: 1.80000
IMAGE_SOURCE: BLACK AND WHITE FILM
SOURCE_IMAGE_ID: NAPP 9142 063
SOURCE_IMAGE_DATE: 1996 08 24
SOURCE_DEM_DATE: 1973 00 00
AGENCY: WESTERN MAPPING CENTER (WMC)
PRODUCER: UNDEFINED
PRODUCTION_SYSTEM: GIS/MAGIC
COMPRESSION: UNDEFINED
STANDARD_VERSION: 1996 12
METADATA_DATE: 1999 05 18
DATA_FILE_SIZE: 44315820
BYTE_COUNT: 5730
