FILENAME: O4610847.SES.1006359.tif
QUADRANGLE_NAME: CHERRY SPRING
QUADRANT: SE
WEST_LONGITUDE: -108 11 15.00000
EAST_LONGITUDE: -108 7 30.00000
NORTH_LATITUDE: 46 18 45.00000
SOUTH_LATITUDE: 46 15 0.00000
PRODUCTION_DATE: 1999 4 14
RASTER_ORDER: LEFT_RIGHT/TOP_BOTTOM
BAND_ORGANIZATION: SINGLE FILE
BAND_CONTENT: BLACK&WHITE
BAND_CONTENT: UNDEFINED
BAND_CONTENT: UNDEFINED
BITS_PER_PIXEL: 8
SAMPLES_AND_LINES: 5719 7725
HORIZONTAL_DATUM: NAD83
HORIZONTAL_COORDINATE_SYSTEM: UTM
COORDINATE_ZONE: 12
HORIZONTAL_UNITS: METERS
HORIZONTAL_RESOLUTION: 1.00000
SECONDARY_HORIZONTAL_DATUM: NAD27
XY_ORIGIN: 716192.00000 5133087.00000
SECONDARY_XY_ORIGIN: 716250.24700 5132874.09600
NATION: US
NATION: "SCIENCE
STATE: MT
NW_QUAD_CORNER_XY: 716545.23200 5132614.09600
NE_QUAD_CORNER_XY: 721357.16800 5132786.94100
SE_QUAD_CORNERY_XY: 721609.21600 5125842.80200
SW_QUAD_CORNER_XY: 716791.79200 5125669.94100
SECONDARY_NW_QUAD_XY: 716551.80900 5132396.04200
SECONDARY_NE_QUAD_XY: 721363.89200 5132568.89200
SECONDARY_SE_QUAD_XY: 721615.93800 5125624.79200
SECONDARY_SW_QUAD_XY: 716798.36800 5125451.92500
RMSE_XY: 3.20000
IMAGE_SOURCE: BLACK AND WHITE FILM
SOURCE_IMAGE_ID: NAPP 9143 047
SOURCE_IMAGE_DATE: 1996 08 24
SOURCE_IMAGE_ID: NAPP 9143 046
SOURCE_IMAGE_DATE: 1996 08 24
SOURCE_IMAGE_ID: NAPP 9143 048
SOURCE_IMAGE_DATE: 1996 08 24
SOURCE_DEM_DATE: 1989 00 00
AGENCY: WESTERN MAPPING CENTER (WMC)
PRODUCER: UNDEFINED
PRODUCTION_SYSTEM: GIS/MAGIC
COMPRESSION: UNDEFINED
STANDARD_VERSION: 1996 12
METADATA_DATE: 1999 05 18
DATA_FILE_SIZE: 44184994
BYTE_COUNT: 5719
