FILENAME: O4610846.NES.1006146.tif
QUADRANGLE_NAME: DUNN MOUNTAIN NORTH
QUADRANT: NE
WEST_LONGITUDE: -108 18 45.00000
EAST_LONGITUDE: -108 15 0.00000
NORTH_LATITUDE: 46 22 30.00000
SOUTH_LATITUDE: 46 18 45.00000
PRODUCTION_DATE: 1999 4 14
RASTER_ORDER: LEFT_RIGHT/TOP_BOTTOM
BAND_ORGANIZATION: SINGLE FILE
BAND_CONTENT: BLACK&WHITE
BAND_CONTENT: UNDEFINED
BAND_CONTENT: UNDEFINED
BITS_PER_PIXEL: 8
SAMPLES_AND_LINES: 5703 7718
HORIZONTAL_DATUM: NAD83
HORIZONTAL_COORDINATE_SYSTEM: UTM
COORDINATE_ZONE: 12
HORIZONTAL_UNITS: METERS
HORIZONTAL_RESOLUTION: 1.00000
SECONDARY_HORIZONTAL_DATUM: NAD27
XY_ORIGIN: 706332.00000 5139690.00000
SECONDARY_XY_ORIGIN: 706390.30700 5139477.19500
NATION: US
NATION: "SCIENCE
STATE: MT
NW_QUAD_CORNER_XY: 706685.49000 5139224.06700
NE_QUAD_CORNER_XY: 711491.95700 5139389.28600
SE_QUAD_CORNERY_XY: 711733.28300 5132445.05600
SW_QUAD_CORNER_XY: 706921.32400 5132279.82000
SECONDARY_NW_QUAD_XY: 706691.77700 5139005.96600
SECONDARY_NE_QUAD_XY: 711498.39000 5139171.19000
SECONDARY_SE_QUAD_XY: 711739.71500 5132226.99700
SECONDARY_SW_QUAD_XY: 706927.60900 5132061.75600
RMSE_XY: 2.50000
IMAGE_SOURCE: BLACK AND WHITE FILM
SOURCE_IMAGE_ID: NAPP 9160 167
SOURCE_IMAGE_DATE: 1997 09 23
SOURCE_IMAGE_ID: NAPP 9137 069
SOURCE_IMAGE_DATE: 1996 08 23
SOURCE_DEM_DATE: 1973 00 00
AGENCY: WESTERN MAPPING CENTER (WMC)
PRODUCER: UNDEFINED
PRODUCTION_SYSTEM: GIS/MAGIC
COMPRESSION: UNDEFINED
STANDARD_VERSION: 1996 12
METADATA_DATE: 1999 05 18
DATA_FILE_SIZE: 44021457
BYTE_COUNT: 5703
