FILENAME: O4610846.SWS.1006149.tif
QUADRANGLE_NAME: DUNN MOUNTAIN NORTH
QUADRANT: SW
WEST_LONGITUDE: -108 22 30.00000
EAST_LONGITUDE: -108 18 45.00000
NORTH_LATITUDE: 46 18 45.00000
SOUTH_LATITUDE: 46 15 0.00000
PRODUCTION_DATE: 1999 4 14
RASTER_ORDER: LEFT_RIGHT/TOP_BOTTOM
BAND_ORGANIZATION: SINGLE FILE
BAND_CONTENT: BLACK&WHITE
BAND_CONTENT: UNDEFINED
BAND_CONTENT: UNDEFINED
BITS_PER_PIXEL: 8
SAMPLES_AND_LINES: 5703 7714
HORIZONTAL_DATUM: NAD83
HORIZONTAL_COORDINATE_SYSTEM: UTM
COORDINATE_ZONE: 12
HORIZONTAL_UNITS: METERS
HORIZONTAL_RESOLUTION: 1.00000
SECONDARY_HORIZONTAL_DATUM: NAD27
XY_ORIGIN: 701755.00000 5132580.00000
SECONDARY_XY_ORIGIN: 701813.49100 5132367.45200
NATION: US
NATION: "SCIENCE
STATE: MT
NW_QUAD_CORNER_XY: 702109.35300 5132118.38700
NE_QUAD_CORNER_XY: 706921.32400 5132279.82000
SE_QUAD_CORNERY_XY: 707156.91000 5125335.63200
SW_QUAD_CORNER_XY: 702339.45300 5125174.18400
SECONDARY_NW_QUAD_XY: 702115.49200 5131900.31800
SECONDARY_NE_QUAD_XY: 706927.60900 5132061.75600
SECONDARY_SE_QUAD_XY: 707163.19400 5125117.60600
SECONDARY_SW_QUAD_XY: 702345.59100 5124956.15300
RMSE_XY: 1.90000
IMAGE_SOURCE: BLACK AND WHITE FILM
SOURCE_IMAGE_ID: NAPP 9137 070
SOURCE_IMAGE_DATE: 1996 08 23
SOURCE_IMAGE_ID: NAPP 9137 152
SOURCE_IMAGE_DATE: 1996 08 23
SOURCE_IMAGE_ID: NAPP 9137 154
SOURCE_IMAGE_DATE: 1996 08 23
SOURCE_IMAGE_ID: NAPP 9137 071
SOURCE_IMAGE_DATE: 1996 08 23
SOURCE_IMAGE_ID: NAPP 9137 069
SOURCE_IMAGE_DATE: 1996 08 23
SOURCE_DEM_DATE: 1973 00 00
AGENCY: WESTERN MAPPING CENTER (WMC)
PRODUCER: UNDEFINED
PRODUCTION_SYSTEM: GIS/MAGIC
COMPRESSION: UNDEFINED
STANDARD_VERSION: 1996 12
METADATA_DATE: 1999 05 18
DATA_FILE_SIZE: 43998645
BYTE_COUNT: 5703
