FILENAME: O4610845.NES.1005992.tif
QUADRANGLE_NAME: SIGNAL MOUNTAIN
QUADRANT: NE
WEST_LONGITUDE: -108 26 15.00000
EAST_LONGITUDE: -108 22 30.00000
NORTH_LATITUDE: 46 22 30.00000
SOUTH_LATITUDE: 46 18 45.00000
PRODUCTION_DATE: 1999 4 14
RASTER_ORDER: LEFT_RIGHT/TOP_BOTTOM
BAND_ORGANIZATION: SINGLE FILE
BAND_CONTENT: BLACK&WHITE
BAND_CONTENT: UNDEFINED
BAND_CONTENT: UNDEFINED
BITS_PER_PIXEL: 8
SAMPLES_AND_LINES: 5692 7710
HORIZONTAL_DATUM: NAD83
HORIZONTAL_COORDINATE_SYSTEM: UTM
COORDINATE_ZONE: 12
HORIZONTAL_UNITS: METERS
HORIZONTAL_RESOLUTION: 1.00000
SECONDARY_HORIZONTAL_DATUM: NAD27
XY_ORIGIN: 696719.00000 5139363.00000
SECONDARY_XY_ORIGIN: 696777.46800 5139150.43900
NATION: US
NATION: "SCIENCE
STATE: MT
NW_QUAD_CORNER_XY: 697072.52100 5138905.03700
NE_QUAD_CORNER_XY: 701879.01100 5139062.65100
SE_QUAD_CORNERY_XY: 702109.35300 5132118.38700
SW_QUAD_CORNER_XY: 697297.37200 5131960.75800
SECONDARY_NW_QUAD_XY: 697078.51500 5138686.92600
SECONDARY_NE_QUAD_XY: 701885.15100 5138844.54400
SECONDARY_SE_QUAD_XY: 702115.49200 5131900.31800
SECONDARY_SW_QUAD_XY: 697303.36500 5131742.68400
RMSE_XY: 2.20000
IMAGE_SOURCE: BLACK AND WHITE FILM
SOURCE_IMAGE_ID: NAPP 9137 155
SOURCE_IMAGE_DATE: 1996 08 23
SOURCE_DEM_DATE: 1973 00 00
AGENCY: WESTERN MAPPING CENTER (WMC)
PRODUCER: UNDEFINED
PRODUCTION_SYSTEM: GIS/MAGIC
COMPRESSION: UNDEFINED
STANDARD_VERSION: 1996 12
METADATA_DATE: 1999 05 18
DATA_FILE_SIZE: 43891012
BYTE_COUNT: 5692
