FILENAME: O4610845.SES.1005996.tif
QUADRANGLE_NAME: SIGNAL MOUNTAIN
QUADRANT: SE
WEST_LONGITUDE: -108 26 15.00000
EAST_LONGITUDE: -108 22 30.00000
NORTH_LATITUDE: 46 18 45.00000
SOUTH_LATITUDE: 46 15 0.00000
PRODUCTION_DATE: 1999 4 14
RASTER_ORDER: LEFT_RIGHT/TOP_BOTTOM
BAND_ORGANIZATION: SINGLE FILE
BAND_CONTENT: BLACK&WHITE
BAND_CONTENT: UNDEFINED
BAND_CONTENT: UNDEFINED
BITS_PER_PIXEL: 8
SAMPLES_AND_LINES: 5698 7711
HORIZONTAL_DATUM: NAD83
HORIZONTAL_COORDINATE_SYSTEM: UTM
COORDINATE_ZONE: 12
HORIZONTAL_UNITS: METERS
HORIZONTAL_RESOLUTION: 1.00000
SECONDARY_HORIZONTAL_DATUM: NAD27
XY_ORIGIN: 696943.00000 5132419.00000
SECONDARY_XY_ORIGIN: 697001.57100 5132206.56000
NATION: US
NATION: "SCIENCE
STATE: MT
NW_QUAD_CORNER_XY: 697297.37200 5131960.75800
NE_QUAD_CORNER_XY: 702109.35300 5132118.38700
SE_QUAD_CORNERY_XY: 702339.45300 5125174.18400
SW_QUAD_CORNER_XY: 697521.98600 5125016.53900
SECONDARY_NW_QUAD_XY: 697303.36500 5131742.68400
SECONDARY_NE_QUAD_XY: 702115.49200 5131900.31800
SECONDARY_SE_QUAD_XY: 702345.59100 5124956.15300
SECONDARY_SW_QUAD_XY: 697527.97800 5124798.50400
RMSE_XY: 0.90000
IMAGE_SOURCE: BLACK AND WHITE FILM
SOURCE_IMAGE_ID: NAPP 9137 153
SOURCE_IMAGE_DATE: 1996 08 23
SOURCE_IMAGE_ID: NAPP 9137 152
SOURCE_IMAGE_DATE: 1996 08 23
SOURCE_IMAGE_ID: NAPP 9137 154
SOURCE_IMAGE_DATE: 1996 08 23
SOURCE_IMAGE_ID: NAPP 9137 069
SOURCE_IMAGE_DATE: 1996 08 23
SOURCE_DEM_DATE: 1973 00 00
AGENCY: WESTERN MAPPING CENTER (WMC)
PRODUCER: UNDEFINED
PRODUCTION_SYSTEM: GIS/MAGIC
COMPRESSION: UNDEFINED
STANDARD_VERSION: 1996 12
METADATA_DATE: 1999 05 18
DATA_FILE_SIZE: 43942976
BYTE_COUNT: 5698
