BEGIN_USGS_DOQ_HEADER *
QUADRANGLE_NAME "Harper Coulee" 3.75 or 7.5-min. name*
QUADRANT NW quadrant indicator if cell size = 3.75-minutes*
WEST_LONGITUDE -108 37 30.000 signed deg min sec SDDD MM SS.SSS*
EAST_LONGITUDE -108 33 45.000 signed deg min sec SDDD MM SS.SSS*
NORTH_LATITUDE 46 22 30.000 signed deg min sec SDDD MM SS.SSS*
SOUTH_LATITUDE 46 18 45.000 signed deg min sec SDDD MM SS.SSS*
PRODUCTION_DATE 2003 5 8 yyyy mm dd*
RASTER_ORDER left_right/top_bottom video display order*
BAND_ORGANIZATION "single file" single file or BSQ, or BIL or BIP*
BAND_CONTENT BLACK&WHITE black&white or red green blue*
BITS_PER_PIXEL 8 radiometric resolution*
SAMPLES_AND_LINES 5674 7697 number of columns and rows*
HORIZONTAL_DATUM NAD83 primary horizontal datum*
HORIZONTAL_COORDINATE_SYSTEM UTM *
COORDINATE_ZONE 12 coordinate system zone number*
HORIZONTAL_UNITS meters coordinate system units*
HORIZONTAL_RESOLUTION 1.00 pixel horiz. ground sample distance*
SECONDARY_HORIZONTAL_DATUM NAD27 secondary horizontal datum*
XY_ORIGIN 682300.220 5138900.720 coord. of upper left pixel pri. datum*
SECONDARY_XY_ORIGIN 682359.044 5138688.382 coord upper left pixel sec datum*
NATION US nation code*
STATE MT state fip code*
NW_QUAD_CORNER_XY 682652.984 5138455.012 XY coords. of pri. NW quad corner*
NE_QUAD_CORNER_XY 687459.507 5138601.219 XY coords. of pri. NE quad corner*
SE_QUAD_CORNER_XY 687673.377 5131656.909 XY coords. of pri. SE quad corner*
SW_QUAD_CORNER_XY 682861.364 5131510.687 XY coords. of pri. SW quad corner*
SECONDARY_NW_QUAD_XY 682658.539 5138236.888 XY coords. - sec. NW quad cor.*
SECONDARY_NE_QUAD_XY 687465.209 5138383.099 XY coords. - sec. NE quad cor.*
SECONDARY_SE_QUAD_XY 687679.077 5131438.826 XY coords. - sec. SE quad cor.*
SECONDARY_SW_QUAD_XY 682866.918 5131292.600 XY coords. - sec. SW quad cor.*
RMSE_XY 0.92 doq horiz. accuracy*
IMAGE_SOURCE "BLACK AND WHITE FILM" b&w, cir, natural color, other*
SOURCE_IMAGE_ID "NAPP 9138 050" source image id*
SOURCE_IMAGE_DATE 1996 8 23 source image date as yyyy mm dd*
SOURCE_IMAGE_ID "NAPP 9140 018" source image id*
SOURCE_IMAGE_DATE 1996 8 23 source image date as yyyy mm dd*
SOURCE_IMAGE_ID "NAPP 9140 017" source image id*
SOURCE_IMAGE_DATE 1996 8 23 source image date as yyyy mm dd*
SOURCE_IMAGE_ID "NAPP 9138 222" source image id*
SOURCE_IMAGE_DATE 1996 8 23 source image date as yyyy mm dd*
SOURCE_IMAGE_ID "NAPP 9138 049" source image id*
SOURCE_IMAGE_DATE 1996 8 23 source image date as yyyy mm dd*
SOURCE_IMAGE_ID "NAPP 9138 048" source image id*
SOURCE_IMAGE_DATE 1996 8 23 source image date as yyyy mm dd*
SOURCE_IMAGE_ID "NAPP 9140 019" source image id*
SOURCE_IMAGE_DATE 1996 8 23 source image date as yyyy mm dd*
SOURCE_IMAGE_ID "NAPP 9138 223" source image id*
SOURCE_IMAGE_DATE 1996 8 23 source image date as yyyy mm dd*
SOURCE_IMAGE_ID "NAPP 9138 221" source image id*
SOURCE_IMAGE_DATE 1996 8 23 source image date as yyyy mm dd*
SOURCE_DEM_DATE 1973 1 1 source dem date yyyy mm dd*
AGENCY "ROCKY MOUNTAIN MAPPING CENTER (RMMC)" oversight agency*
PRODUCER "ROCKY MOUNTAIN MAPPING CENTER (RMMC)" producer/contractor*
PRODUCTION_SYSTEM "ImageStation OrthoPro 4, 0, 0, 5" production system*
STANDARD_VERSION 1996 12 version of DOQ standard*
METADATA_DATE 2003 5 8 date created or changed, yyyy mm dd*
DATA_FILE_SIZE 43678452 data set size in bytes*
BYTE_COUNT 5674 header byte count*
