BEGIN_USGS_DOQ_HEADER *
QUADRANGLE_NAME "Harper Coulee" 3.75 or 7.5-min. name*
QUADRANT SE quadrant indicator if cell size = 3.75-minutes*
WEST_LONGITUDE -108 33 45.000 signed deg min sec SDDD MM SS.SSS*
EAST_LONGITUDE -108 30 0.000 signed deg min sec SDDD MM SS.SSS*
NORTH_LATITUDE 46 18 45.000 signed deg min sec SDDD MM SS.SSS*
SOUTH_LATITUDE 46 15 0.000 signed deg min sec SDDD MM SS.SSS*
PRODUCTION_DATE 2003 5 8 yyyy mm dd*
RASTER_ORDER left_right/top_bottom video display order*
BAND_ORGANIZATION "single file" single file or BSQ, or BIL or BIP*
BAND_CONTENT BLACK&WHITE black&white or red green blue*
BITS_PER_PIXEL 8 radiometric resolution*
SAMPLES_AND_LINES 5685 7701 number of columns and rows*
HORIZONTAL_DATUM NAD83 primary horizontal datum*
HORIZONTAL_COORDINATE_SYSTEM UTM *
COORDINATE_ZONE 12 coordinate system zone number*
HORIZONTAL_UNITS meters coordinate system units*
HORIZONTAL_RESOLUTION 1.00 pixel horiz. ground sample distance*
SECONDARY_HORIZONTAL_DATUM NAD27 secondary horizontal datum*
XY_ORIGIN 687320.800 5132106.430 coord. of upper left pixel pri. datum*
SECONDARY_XY_ORIGIN 687379.583 5131894.172 coord upper left pixel sec datum*
NATION US nation code*
STATE MT state fip code*
NW_QUAD_CORNER_XY 687673.377 5131656.909 XY coords. of pri. NW quad corner*
NE_QUAD_CORNER_XY 692485.379 5131806.932 XY coords. of pri. NE quad corner*
SE_QUAD_CORNER_XY 692704.509 5124862.699 XY coords. of pri. SE quad corner*
SW_QUAD_CORNER_XY 687887.022 5124712.661 XY coords. of pri. SW quad corner*
SECONDARY_NW_QUAD_XY 687679.077 5131438.826 XY coords. - sec. NW quad cor.*
SECONDARY_NE_QUAD_XY 692491.226 5131588.854 XY coords. - sec. NE quad cor.*
SECONDARY_SE_QUAD_XY 692710.355 5124644.659 XY coords. - sec. SE quad cor.*
SECONDARY_SW_QUAD_XY 687892.721 5124494.616 XY coords. - sec. SW quad cor.*
RMSE_XY 0.92 doq horiz. accuracy*
IMAGE_SOURCE "BLACK AND WHITE FILM" b&w, cir, natural color, other*
SOURCE_IMAGE_ID "NAPP 9138 225" source image id*
SOURCE_IMAGE_DATE 1996 8 23 source image date as yyyy mm dd*
SOURCE_IMAGE_ID "NAPP 9138 046" source image id*
SOURCE_IMAGE_DATE 1996 8 23 source image date as yyyy mm dd*
SOURCE_IMAGE_ID "NAPP 9138 224" source image id*
SOURCE_IMAGE_DATE 1996 8 23 source image date as yyyy mm dd*
SOURCE_IMAGE_ID "NAPP 9138 047" source image id*
SOURCE_IMAGE_DATE 1996 8 23 source image date as yyyy mm dd*
SOURCE_IMAGE_ID "NAPP 9138 048" source image id*
SOURCE_IMAGE_DATE 1996 8 23 source image date as yyyy mm dd*
SOURCE_IMAGE_ID "NAPP 9138 223" source image id*
SOURCE_IMAGE_DATE 1996 8 23 source image date as yyyy mm dd*
SOURCE_DEM_DATE 1973 1 1 source dem date yyyy mm dd*
AGENCY "ROCKY MOUNTAIN MAPPING CENTER (RMMC)" oversight agency*
PRODUCER "ROCKY MOUNTAIN MAPPING CENTER (RMMC)" producer/contractor*
PRODUCTION_SYSTEM "ImageStation OrthoPro 4, 0, 0, 5" production system*
STANDARD_VERSION 1996 12 version of DOQ standard*
METADATA_DATE 2003 5 8 date created or changed, yyyy mm dd*
DATA_FILE_SIZE 43785870 data set size in bytes*
BYTE_COUNT 5685 header byte count*
