FILENAME: O4610842.NWS.1150832.tif
QUADRANGLE_NAME: BUNDY
QUADRANT: NW
WEST_LONGITUDE: -108 52 30.00000
EAST_LONGITUDE: -108 48 45.00000
NORTH_LATITUDE: 46 22 30.00000
SOUTH_LATITUDE: 46 18 45.00000
PRODUCTION_DATE: 2001 05 21
RASTER_ORDER: LEFT_RIGHT/TOP_BOTTOM
BAND_ORGANIZATION: SINGLE FILE
BAND_CONTENT: BLACK&WHITE
BAND_CONTENT: UNDEFINED
BAND_CONTENT: UNDEFINED
BITS_PER_PIXEL: 8
SAMPLES_AND_LINES: 5670 7710
HORIZONTAL_DATUM: NAD83
HORIZONTAL_COORDINATE_SYSTEM: UTM
COORDINATE_ZONE: 12
HORIZONTAL_UNITS: METERS
HORIZONTAL_RESOLUTION: 1.00000
SECONDARY_HORIZONTAL_DATUM: NAD27
XY_ORIGIN: 663060.00000 5138340.00000
SECONDARY_XY_ORIGIN: 663119.38100 5138127.72800
NATION: US
STATE: MT
NW_QUAD_CORNER_XY: 663426.79200 5137908.19800
NE_QUAD_CORNER_XY: 668233.35400 5138039.20000
SE_QUAD_CORNERY_XY: 668425.26800 5131094.83400
SW_QUAD_CORNER_XY: 663613.21700 5130963.81800
SECONDARY_NW_QUAD_XY: 663431.76300 5137690.05700
SECONDARY_NE_QUAD_XY: 668238.47100 5137821.06300
SECONDARY_SE_QUAD_XY: 668430.38400 5130876.73400
SECONDARY_SW_QUAD_XY: 663618.18700 5130745.71400
RMSE_XY: 2.18000
IMAGE_SOURCE: BLACK AND WHITE FILM
SOURCE_IMAGE_ID: NAPP 9157 24
SOURCE_IMAGE_DATE: 1997 09 05
SOURCE_DEM_DATE: 1988 00 00
AGENCY: WESTERN MAPPING CENTER (WMC)
PRODUCER: ANALYTICAL SURVEYS INC.
PRODUCTION_SYSTEM: ORBIT OR_RECTIFY V.5.2
COMPRESSION: UNDEFINED
STANDARD_VERSION: 1996 12
METADATA_DATE: 2001 05 22
DATA_FILE_SIZE: 43721370
BYTE_COUNT: 5670
