FILENAME: O4610842.SES.1150833.tif
QUADRANGLE_NAME: BUNDY
QUADRANT: SE
WEST_LONGITUDE: -108 48 45.00000
EAST_LONGITUDE: -108 45 0.00000
NORTH_LATITUDE: 46 18 45.00000
SOUTH_LATITUDE: 46 15 0.00000
PRODUCTION_DATE: 2001 05 21
RASTER_ORDER: LEFT_RIGHT/TOP_BOTTOM
BAND_ORGANIZATION: SINGLE FILE
BAND_CONTENT: BLACK&WHITE
BAND_CONTENT: UNDEFINED
BAND_CONTENT: UNDEFINED
BITS_PER_PIXEL: 8
SAMPLES_AND_LINES: 5670 7710
HORIZONTAL_DATUM: NAD83
HORIZONTAL_COORDINATE_SYSTEM: UTM
COORDINATE_ZONE: 12
HORIZONTAL_UNITS: METERS
HORIZONTAL_RESOLUTION: 1.00000
SECONDARY_HORIZONTAL_DATUM: NAD27
XY_ORIGIN: 668070.00000 5131530.00000
SECONDARY_XY_ORIGIN: 668129.31300 5131317.93100
NATION: US
STATE: MT
NW_QUAD_CORNER_XY: 668425.26800 5131094.83400
NE_QUAD_CORNER_XY: 673237.30900 5131229.65000
SE_QUAD_CORNERY_XY: 673434.50400 5124285.36100
SW_QUAD_CORNER_XY: 668616.98000 5124150.53200
SECONDARY_NW_QUAD_XY: 668430.38400 5130876.73400
SECONDARY_NE_QUAD_XY: 673242.57100 5131011.55400
SECONDARY_SE_QUAD_XY: 673439.76500 5124067.30400
SECONDARY_SW_QUAD_XY: 668622.09400 5123932.47000
RMSE_XY: 2.00000
IMAGE_SOURCE: BLACK AND WHITE FILM
SOURCE_IMAGE_ID: NAPP 9141 48
SOURCE_IMAGE_DATE: 1996 08 23
SOURCE_DEM_DATE: 1988 00 00
AGENCY: WESTERN MAPPING CENTER (WMC)
PRODUCER: ANALYTICAL SURVEYS INC.
PRODUCTION_SYSTEM: ORBIT OR_RECTIFY V.5.2
COMPRESSION: UNDEFINED
STANDARD_VERSION: 1996 12
METADATA_DATE: 2001 05 22
DATA_FILE_SIZE: 43721370
BYTE_COUNT: 5670
