FILENAME: O4610841.NWS.1150828.tif
QUADRANGLE_NAME: LAVINA
QUADRANT: NW
WEST_LONGITUDE: -109 0 0.00000
EAST_LONGITUDE: -108 56 15.00000
NORTH_LATITUDE: 46 22 30.00000
SOUTH_LATITUDE: 46 18 45.00000
PRODUCTION_DATE: 2001 05 21
RASTER_ORDER: LEFT_RIGHT/TOP_BOTTOM
BAND_ORGANIZATION: SINGLE FILE
BAND_CONTENT: BLACK&WHITE
BAND_CONTENT: UNDEFINED
BAND_CONTENT: UNDEFINED
BITS_PER_PIXEL: 8
SAMPLES_AND_LINES: 5700 7710
HORIZONTAL_DATUM: NAD83
HORIZONTAL_COORDINATE_SYSTEM: UTM
COORDINATE_ZONE: 12
HORIZONTAL_UNITS: METERS
HORIZONTAL_RESOLUTION: 1.00000
SECONDARY_HORIZONTAL_DATUM: NAD27
XY_ORIGIN: 653430.00000 5138100.00000
SECONDARY_XY_ORIGIN: 653489.66500 5137887.69700
NATION: US
STATE: MT
NW_QUAD_CORNER_XY: 653813.64000 5137657.59500
NE_QUAD_CORNER_XY: 658620.22100 5137780.99600
SE_QUAD_CORNERY_XY: 658801.15800 5130836.60400
SW_QUAD_CORNER_XY: 653989.09100 5130713.19000
SECONDARY_NW_QUAD_XY: 653818.31800 5137439.44600
SECONDARY_NE_QUAD_XY: 658625.04500 5137562.85100
SECONDARY_SE_QUAD_XY: 658805.98200 5130618.49600
SECONDARY_SW_QUAD_XY: 653993.76800 5130495.07800
RMSE_XY: 1.98000
IMAGE_SOURCE: BLACK AND WHITE FILM
SOURCE_IMAGE_ID: NAPP 9147 252
SOURCE_IMAGE_DATE: 1996 08 24
SOURCE_IMAGE_ID: NAPP 9147 250
SOURCE_IMAGE_DATE: 1996 08 24
SOURCE_DEM_DATE: 1988 00 00
AGENCY: WESTERN MAPPING CENTER (WMC)
PRODUCER: ANALYTICAL SURVEYS INC.
PRODUCTION_SYSTEM: ORBIT OR_RECTIFY V.5.2
COMPRESSION: UNDEFINED
STANDARD_VERSION: 1996 12
METADATA_DATE: 2001 05 22
DATA_FILE_SIZE: 43952700
BYTE_COUNT: 5700
