FILENAME: O4610841.SWS.1150830.tif
QUADRANGLE_NAME: LAVINA
QUADRANT: SW
WEST_LONGITUDE: -109 0 0.00000
EAST_LONGITUDE: -108 56 15.00000
NORTH_LATITUDE: 46 18 45.00000
SOUTH_LATITUDE: 46 15 0.00000
PRODUCTION_DATE: 2001 05 21
RASTER_ORDER: LEFT_RIGHT/TOP_BOTTOM
BAND_ORGANIZATION: SINGLE FILE
BAND_CONTENT: BLACK&WHITE
BAND_CONTENT: UNDEFINED
BAND_CONTENT: UNDEFINED
BITS_PER_PIXEL: 8
SAMPLES_AND_LINES: 5700 7680
HORIZONTAL_DATUM: NAD83
HORIZONTAL_COORDINATE_SYSTEM: UTM
COORDINATE_ZONE: 12
HORIZONTAL_UNITS: METERS
HORIZONTAL_RESOLUTION: 1.00000
SECONDARY_HORIZONTAL_DATUM: NAD27
XY_ORIGIN: 653610.00000 5131140.00000
SECONDARY_XY_ORIGIN: 653669.74400 5130927.88200
NATION: US
STATE: MT
NW_QUAD_CORNER_XY: 653989.09100 5130713.19000
NE_QUAD_CORNER_XY: 658801.15800 5130836.60400
SE_QUAD_CORNERY_XY: 658981.90600 5123892.27800
SW_QUAD_CORNER_XY: 654164.35700 5123768.85200
SECONDARY_NW_QUAD_XY: 653993.76800 5130495.07800
SECONDARY_NE_QUAD_XY: 658805.98200 5130618.49600
SECONDARY_SE_QUAD_XY: 658986.72800 5123674.20800
SECONDARY_SW_QUAD_XY: 654169.03300 5123550.77900
RMSE_XY: 2.17000
IMAGE_SOURCE: BLACK AND WHITE FILM
SOURCE_IMAGE_ID: NAPP 9147 254
SOURCE_IMAGE_DATE: 1996 08 24
SOURCE_DEM_DATE: 1988 00 00
AGENCY: WESTERN MAPPING CENTER (WMC)
PRODUCER: ANALYTICAL SURVEYS INC.
PRODUCTION_SYSTEM: ORBIT OR_RECTIFY V.5.2
COMPRESSION: UNDEFINED
STANDARD_VERSION: 1996 12
METADATA_DATE: 2001 05 22
DATA_FILE_SIZE: 43781700
BYTE_COUNT: 5700
