BEGIN_USGS_DOQ_HEADER *
QUADRANGLE_NAME "Chimney Butte" 3.75 or 7.5-min. name*
QUADRANT NE quadrant indicator if cell size = 3.75-minutes*
WEST_LONGITUDE -108 11 15.000 signed deg min sec SDDD MM SS.SSS*
EAST_LONGITUDE -108 7 30.000 signed deg min sec SDDD MM SS.SSS*
NORTH_LATITUDE 46 30 0.000 signed deg min sec SDDD MM SS.SSS*
SOUTH_LATITUDE 46 26 15.000 signed deg min sec SDDD MM SS.SSS*
PRODUCTION_DATE 2003 5 8 yyyy mm dd*
RASTER_ORDER left_right/top_bottom video display order*
BAND_ORGANIZATION "single file" single file or BSQ, or BIL or BIP*
BAND_CONTENT BLACK&WHITE black&white or red green blue*
BITS_PER_PIXEL 8 radiometric resolution*
SAMPLES_AND_LINES 5700 7723 number of columns and rows*
HORIZONTAL_DATUM NAD83 primary horizontal datum*
HORIZONTAL_COORDINATE_SYSTEM UTM *
COORDINATE_ZONE 12 coordinate system zone number*
HORIZONTAL_UNITS meters coordinate system units*
HORIZONTAL_RESOLUTION 1.00 pixel horiz. ground sample distance*
SECONDARY_HORIZONTAL_DATUM NAD27 secondary horizontal datum*
XY_ORIGIN 715453.090 5153919.200 coord. of upper left pixel pri. datum*
SECONDARY_XY_ORIGIN 715511.085 5153705.844 coord upper left pixel sec datum*
NATION US nation code*
STATE MT state fip code*
NW_QUAD_CORNER_XY 715803.998 5153446.911 XY coords. of pri. NW quad corner*
NE_QUAD_CORNER_XY 720599.437 5153619.701 XY coords. of pri. NE quad corner*
SE_QUAD_CORNER_XY 720852.278 5146675.391 XY coords. of pri. SE quad corner*
SW_QUAD_CORNER_XY 716051.334 5146502.582 XY coords. of pri. SW quad corner*
SECONDARY_NW_QUAD_XY 715810.580 5153228.748 XY coords. - sec. NW quad cor.*
SECONDARY_NE_QUAD_XY 720606.165 5153401.543 XY coords. - sec. NE quad cor.*
SECONDARY_SE_QUAD_XY 720859.005 5146457.269 XY coords. - sec. SE quad cor.*
SECONDARY_SW_QUAD_XY 716057.915 5146284.454 XY coords. - sec. SW quad cor.*
RMSE_XY 1.15 doq horiz. accuracy*
IMAGE_SOURCE "BLACK AND WHITE FILM" b&w, cir, natural color, other*
SOURCE_IMAGE_ID "NAPP 9146 029" source image id*
SOURCE_IMAGE_DATE 1996 8 24 source image date as yyyy mm dd*
SOURCE_IMAGE_ID "NAPP 9146 028" source image id*
SOURCE_IMAGE_DATE 1996 8 24 source image date as yyyy mm dd*
SOURCE_IMAGE_ID "NAPP 9143 053" source image id*
SOURCE_IMAGE_DATE 1996 8 24 source image date as yyyy mm dd*
SOURCE_IMAGE_ID "NAPP 9143 054" source image id*
SOURCE_IMAGE_DATE 1996 8 24 source image date as yyyy mm dd*
SOURCE_IMAGE_ID "NAPP 9142 233" source image id*
SOURCE_IMAGE_DATE 1996 8 24 source image date as yyyy mm dd*
SOURCE_IMAGE_ID "NAPP 9146 030" source image id*
SOURCE_IMAGE_DATE 1996 8 24 source image date as yyyy mm dd*
SOURCE_IMAGE_ID "NAPP 9142 234" source image id*
SOURCE_IMAGE_DATE 1996 8 24 source image date as yyyy mm dd*
SOURCE_IMAGE_ID "NAPP 9143 052" source image id*
SOURCE_IMAGE_DATE 1996 8 24 source image date as yyyy mm dd*
SOURCE_IMAGE_ID "NAPP 9142 235" source image id*
SOURCE_IMAGE_DATE 1996 8 24 source image date as yyyy mm dd*
SOURCE_DEM_DATE 1973 1 1 source dem date yyyy mm dd*
AGENCY "ROCKY MOUNTAIN MAPPING CENTER (RMMC)" oversight agency*
PRODUCER "ROCKY MOUNTAIN MAPPING CENTER (RMMC)" producer/contractor*
PRODUCTION_SYSTEM "ImageStation OrthoPro 4, 0, 0, 5" production system*
STANDARD_VERSION 1996 12 version of DOQ standard*
METADATA_DATE 2003 5 8 date created or changed, yyyy mm dd*
DATA_FILE_SIZE 44026800 data set size in bytes*
BYTE_COUNT 5700 header byte count*
