FILENAME: O4610834.NES.1150819.tif
QUADRANGLE_NAME: TIMBER BUTTES SOUTH
QUADRANT: NE
WEST_LONGITUDE: -108 48 45.00000
EAST_LONGITUDE: -108 45 0.00000
NORTH_LATITUDE: 46 30 0.00000
SOUTH_LATITUDE: 46 26 15.00000
PRODUCTION_DATE: 2001 05 21
RASTER_ORDER: LEFT_RIGHT/TOP_BOTTOM
BAND_ORGANIZATION: SINGLE FILE
BAND_CONTENT: BLACK&WHITE
BAND_CONTENT: UNDEFINED
BAND_CONTENT: UNDEFINED
BITS_PER_PIXEL: 8
SAMPLES_AND_LINES: 5700 7710
HORIZONTAL_DATUM: NAD83
HORIZONTAL_COORDINATE_SYSTEM: UTM
COORDINATE_ZONE: 12
HORIZONTAL_UNITS: METERS
HORIZONTAL_RESOLUTION: 1.00000
SECONDARY_HORIZONTAL_DATUM: NAD27
XY_ORIGIN: 667470.00000 5152380.00000
SECONDARY_XY_ORIGIN: 667529.09300 5152167.36700
NATION: US
STATE: MT
NW_QUAD_CORNER_XY: 667848.92400 5151928.12900
NE_QUAD_CORNER_XY: 672644.48200 5152062.90300
SE_QUAD_CORNERY_XY: 672842.29800 5145118.42100
SW_QUAD_CORNER_XY: 668041.24000 5144983.63200
SECONDARY_NW_QUAD_XY: 667854.04200 5151709.92000
SECONDARY_NE_QUAD_XY: 672649.74700 5151844.69800
SECONDARY_SE_QUAD_XY: 672847.56200 5144900.25100
SECONDARY_SW_QUAD_XY: 668046.35700 5144765.45800
RMSE_XY: 1.89000
IMAGE_SOURCE: BLACK AND WHITE FILM
SOURCE_IMAGE_ID: NAPP 9141 54
SOURCE_IMAGE_DATE: 1996 08 23
SOURCE_DEM_DATE: 1993 00 00
AGENCY: WESTERN MAPPING CENTER (WMC)
PRODUCER: ANALYTICAL SURVEYS INC.
PRODUCTION_SYSTEM: ORBIT OR_RECTIFY V.5.2
COMPRESSION: UNDEFINED
STANDARD_VERSION: 1996 12
METADATA_DATE: 2001 05 21
DATA_FILE_SIZE: 43952700
BYTE_COUNT: 5700
