FILENAME: O4610834.SES.1150821.tif
QUADRANGLE_NAME: TIMBER BUTTES SOUTH
QUADRANT: SE
WEST_LONGITUDE: -108 48 45.00000
EAST_LONGITUDE: -108 45 0.00000
NORTH_LATITUDE: 46 26 15.00000
SOUTH_LATITUDE: 46 22 30.00000
PRODUCTION_DATE: 2001 05 21
RASTER_ORDER: LEFT_RIGHT/TOP_BOTTOM
BAND_ORGANIZATION: SINGLE FILE
BAND_CONTENT: BLACK&WHITE
BAND_CONTENT: UNDEFINED
BAND_CONTENT: UNDEFINED
BITS_PER_PIXEL: 8
SAMPLES_AND_LINES: 5670 7710
HORIZONTAL_DATUM: NAD83
HORIZONTAL_COORDINATE_SYSTEM: UTM
COORDINATE_ZONE: 12
HORIZONTAL_UNITS: METERS
HORIZONTAL_RESOLUTION: 1.00000
SECONDARY_HORIZONTAL_DATUM: NAD27
XY_ORIGIN: 667680.00000 5145420.00000
SECONDARY_XY_ORIGIN: 667739.16600 5145207.55400
NATION: US
STATE: MT
NW_QUAD_CORNER_XY: 668041.24000 5144983.63200
NE_QUAD_CORNER_XY: 672842.29800 5145118.42100
SE_QUAD_CORNERY_XY: 673039.90700 5138174.00300
SW_QUAD_CORNER_XY: 668233.35400 5138039.20000
SECONDARY_NW_QUAD_XY: 668046.35700 5144765.45800
SECONDARY_NE_QUAD_XY: 672847.56200 5144900.25100
SECONDARY_SE_QUAD_XY: 673045.17000 5137955.87000
SECONDARY_SW_QUAD_XY: 668238.47100 5137821.06300
RMSE_XY: 0.70000
IMAGE_SOURCE: BLACK AND WHITE FILM
SOURCE_IMAGE_ID: NAPP 9141 52
SOURCE_IMAGE_DATE: 1996 08 23
SOURCE_DEM_DATE: 1993 00 00
AGENCY: WESTERN MAPPING CENTER (WMC)
PRODUCER: ANALYTICAL SURVEYS INC.
PRODUCTION_SYSTEM: ORBIT OR_RECTIFY V.5.2
COMPRESSION: UNDEFINED
STANDARD_VERSION: 1996 12
METADATA_DATE: 2001 05 21
DATA_FILE_SIZE: 43721370
BYTE_COUNT: 5670
