FILENAME: O4610834.SWS.1150822.tif
QUADRANGLE_NAME: TIMBER BUTTES SOUTH
QUADRANT: SW
WEST_LONGITUDE: -108 52 30.00000
EAST_LONGITUDE: -108 48 45.00000
NORTH_LATITUDE: 46 26 15.00000
SOUTH_LATITUDE: 46 22 30.00000
PRODUCTION_DATE: 2001 05 21
RASTER_ORDER: LEFT_RIGHT/TOP_BOTTOM
BAND_ORGANIZATION: SINGLE FILE
BAND_CONTENT: BLACK&WHITE
BAND_CONTENT: UNDEFINED
BAND_CONTENT: UNDEFINED
BITS_PER_PIXEL: 8
SAMPLES_AND_LINES: 5670 7710
HORIZONTAL_DATUM: NAD83
HORIZONTAL_COORDINATE_SYSTEM: UTM
COORDINATE_ZONE: 12
HORIZONTAL_UNITS: METERS
HORIZONTAL_RESOLUTION: 1.00000
SECONDARY_HORIZONTAL_DATUM: NAD27
XY_ORIGIN: 662880.00000 5145300.00000
SECONDARY_XY_ORIGIN: 662939.30600 5145087.54100
NATION: US
STATE: MT
NW_QUAD_CORNER_XY: 663240.17100 5144852.64400
NE_QUAD_CORNER_XY: 668041.24000 5144983.63200
SE_QUAD_CORNERY_XY: 668233.35400 5138039.20000
SW_QUAD_CORNER_XY: 663426.79200 5137908.19800
SECONDARY_NW_QUAD_XY: 663245.14300 5144634.46600
SECONDARY_NE_QUAD_XY: 668046.35700 5144765.45800
SECONDARY_SE_QUAD_XY: 668238.47100 5137821.06300
SECONDARY_SW_QUAD_XY: 663431.76300 5137690.05700
RMSE_XY: 1.71000
IMAGE_SOURCE: BLACK AND WHITE FILM
SOURCE_IMAGE_ID: NAPP 9157 26
SOURCE_IMAGE_DATE: 1997 09 05
SOURCE_DEM_DATE: 1993 00 00
AGENCY: WESTERN MAPPING CENTER (WMC)
PRODUCER: ANALYTICAL SURVEYS INC.
PRODUCTION_SYSTEM: ORBIT OR_RECTIFY V.5.2
COMPRESSION: UNDEFINED
STANDARD_VERSION: 1996 12
METADATA_DATE: 2001 05 21
DATA_FILE_SIZE: 43721370
BYTE_COUNT: 5670
