FILENAME: O4610833.NWS.1150816.tif
QUADRANGLE_NAME: LAVINA NW
QUADRANT: NW
WEST_LONGITUDE: -109 0 0.00000
EAST_LONGITUDE: -108 56 15.00000
NORTH_LATITUDE: 46 30 0.00000
SOUTH_LATITUDE: 46 26 15.00000
PRODUCTION_DATE: 2001 05 21
RASTER_ORDER: LEFT_RIGHT/TOP_BOTTOM
BAND_ORGANIZATION: SINGLE FILE
BAND_CONTENT: BLACK&WHITE
BAND_CONTENT: UNDEFINED
BAND_CONTENT: UNDEFINED
BITS_PER_PIXEL: 8
SAMPLES_AND_LINES: 5640 7710
HORIZONTAL_DATUM: NAD83
HORIZONTAL_COORDINATE_SYSTEM: UTM
COORDINATE_ZONE: 12
HORIZONTAL_UNITS: METERS
HORIZONTAL_RESOLUTION: 1.00000
SECONDARY_HORIZONTAL_DATUM: NAD27
XY_ORIGIN: 653100.00000 5151990.00000
SECONDARY_XY_ORIGIN: 653159.50600 5151777.33200
NATION: US
STATE: MT
NW_QUAD_CORNER_XY: 653462.18600 5151546.60500
NE_QUAD_CORNER_XY: 658257.77500 5151669.98100
SE_QUAD_CORNERY_XY: 658439.09300 5144725.45500
SW_QUAD_CORNER_XY: 653638.00500 5144602.06700
SECONDARY_NW_QUAD_XY: 653466.86600 5151328.38500
SECONDARY_NE_QUAD_XY: 658262.60100 5151451.76400
SECONDARY_SE_QUAD_XY: 658443.91800 5144507.27400
SECONDARY_SW_QUAD_XY: 653642.68400 5144383.88100
RMSE_XY: 3.13000
IMAGE_SOURCE: BLACK AND WHITE FILM
SOURCE_IMAGE_ID: NAPP 9147 248
SOURCE_IMAGE_DATE: 1996 08 24
SOURCE_DEM_DATE: 1992 00 00
AGENCY: WESTERN MAPPING CENTER (WMC)
PRODUCER: ANALYTICAL SURVEYS INC.
PRODUCTION_SYSTEM: ORBIT OR_RECTIFY V.5.2
COMPRESSION: UNDEFINED
STANDARD_VERSION: 1996 12
METADATA_DATE: 2001 05 21
DATA_FILE_SIZE: 43490040
BYTE_COUNT: 5640
