FILENAME: O4610833.SWS.1150818.tif
QUADRANGLE_NAME: LAVINA NW
QUADRANT: SW
WEST_LONGITUDE: -109 0 0.00000
EAST_LONGITUDE: -108 56 15.00000
NORTH_LATITUDE: 46 26 15.00000
SOUTH_LATITUDE: 46 22 30.00000
PRODUCTION_DATE: 2001 05 21
RASTER_ORDER: LEFT_RIGHT/TOP_BOTTOM
BAND_ORGANIZATION: SINGLE FILE
BAND_CONTENT: BLACK&WHITE
BAND_CONTENT: UNDEFINED
BAND_CONTENT: UNDEFINED
BITS_PER_PIXEL: 8
SAMPLES_AND_LINES: 5670 7680
HORIZONTAL_DATUM: NAD83
HORIZONTAL_COORDINATE_SYSTEM: UTM
COORDINATE_ZONE: 12
HORIZONTAL_UNITS: METERS
HORIZONTAL_RESOLUTION: 1.00000
SECONDARY_HORIZONTAL_DATUM: NAD27
XY_ORIGIN: 653280.00000 5145030.00000
SECONDARY_XY_ORIGIN: 653339.58500 5144817.51500
NATION: US
STATE: MT
NW_QUAD_CORNER_XY: 653638.00500 5144602.06700
NE_QUAD_CORNER_XY: 658439.09300 5144725.45500
SE_QUAD_CORNERY_XY: 658620.22100 5137780.99600
SW_QUAD_CORNER_XY: 653813.64000 5137657.59500
SECONDARY_NW_QUAD_XY: 653642.68400 5144383.88100
SECONDARY_NE_QUAD_XY: 658443.91800 5144507.27400
SECONDARY_SE_QUAD_XY: 658625.04500 5137562.85100
SECONDARY_SW_QUAD_XY: 653818.31800 5137439.44600
RMSE_XY: 2.18000
IMAGE_SOURCE: BLACK AND WHITE FILM
SOURCE_IMAGE_ID: NAPP 9147 250
SOURCE_IMAGE_DATE: 1996 08 24
SOURCE_DEM_DATE: 1992 00 00
AGENCY: WESTERN MAPPING CENTER (WMC)
PRODUCER: ANALYTICAL SURVEYS INC.
PRODUCTION_SYSTEM: ORBIT OR_RECTIFY V.5.2
COMPRESSION: UNDEFINED
STANDARD_VERSION: 1996 12
METADATA_DATE: 2001 05 21
DATA_FILE_SIZE: 43551270
BYTE_COUNT: 5670
