FILENAME: O4610825.NWS.1150788.tif
QUADRANGLE_NAME: EMORY SCHOOL
QUADRANT: NW
WEST_LONGITUDE: -109 0 0.00000
EAST_LONGITUDE: -108 56 15.00000
NORTH_LATITUDE: 46 37 30.00000
SOUTH_LATITUDE: 46 33 45.00000
PRODUCTION_DATE: 2001 05 18
RASTER_ORDER: LEFT_RIGHT/TOP_BOTTOM
BAND_ORGANIZATION: SINGLE FILE
BAND_CONTENT: BLACK&WHITE
BAND_CONTENT: UNDEFINED
BAND_CONTENT: UNDEFINED
BITS_PER_PIXEL: 8
SAMPLES_AND_LINES: 5640 7710
HORIZONTAL_DATUM: NAD83
HORIZONTAL_COORDINATE_SYSTEM: UTM
COORDINATE_ZONE: 12
HORIZONTAL_UNITS: METERS
HORIZONTAL_RESOLUTION: 1.00000
SECONDARY_HORIZONTAL_DATUM: NAD27
XY_ORIGIN: 652740.00000 5165880.00000
SECONDARY_XY_ORIGIN: 652799.38500 5165667.04600
NATION: US
STATE: MT
NW_QUAD_CORNER_XY: 653109.99800 5165435.88400
NE_QUAD_CORNER_XY: 657894.57200 5165559.23000
SE_QUAD_CORNERY_XY: 658076.26800 5158614.57200
SW_QUAD_CORNER_XY: 653286.18400 5158491.21100
SECONDARY_NW_QUAD_XY: 653114.67900 5165217.59500
SECONDARY_NE_QUAD_XY: 657899.40000 5165340.94500
SECONDARY_SE_QUAD_XY: 658081.09500 5158396.32100
SECONDARY_SW_QUAD_XY: 653290.86500 5158272.95600
RMSE_XY: 1.03000
IMAGE_SOURCE: BLACK AND WHITE FILM
SOURCE_IMAGE_ID: NAPP 9147 244
SOURCE_IMAGE_DATE: 1996 08 24
SOURCE_DEM_DATE: 1975 00 00
AGENCY: WESTERN MAPPING CENTER (WMC)
PRODUCER: ANALYTICAL SURVEYS INC.
PRODUCTION_SYSTEM: ORBIT OR_RECTIFY V.5.2
COMPRESSION: UNDEFINED
STANDARD_VERSION: 1996 12
METADATA_DATE: 2001 05 18
DATA_FILE_SIZE: 43490040
BYTE_COUNT: 5640
