FILENAME: O4610825.SES.1150789.tif
QUADRANGLE_NAME: EMORY SCHOOL
QUADRANT: SE
WEST_LONGITUDE: -108 56 15.00000
EAST_LONGITUDE: -108 52 30.00000
NORTH_LATITUDE: 46 33 45.00000
SOUTH_LATITUDE: 46 30 0.00000
PRODUCTION_DATE: 2001 05 18
RASTER_ORDER: LEFT_RIGHT/TOP_BOTTOM
BAND_ORGANIZATION: SINGLE FILE
BAND_CONTENT: BLACK&WHITE
BAND_CONTENT: UNDEFINED
BAND_CONTENT: UNDEFINED
BITS_PER_PIXEL: 8
SAMPLES_AND_LINES: 5640 7710
HORIZONTAL_DATUM: NAD83
HORIZONTAL_COORDINATE_SYSTEM: UTM
COORDINATE_ZONE: 12
HORIZONTAL_UNITS: METERS
HORIZONTAL_RESOLUTION: 1.00000
SECONDARY_HORIZONTAL_DATUM: NAD27
XY_ORIGIN: 657720.00000 5159070.00000
SECONDARY_XY_ORIGIN: 657779.30000 5158857.20100
NATION: US
STATE: MT
NW_QUAD_CORNER_XY: 658076.26800 5158614.57200
NE_QUAD_CORNER_XY: 662866.34300 5158741.73200
SE_QUAD_CORNERY_XY: 663053.35400 5151797.15500
SW_QUAD_CORNER_XY: 658257.77500 5151669.98100
SECONDARY_NW_QUAD_XY: 658081.09500 5158396.32100
SECONDARY_NE_QUAD_XY: 662871.31600 5158523.48400
SECONDARY_SE_QUAD_XY: 663058.32700 5151578.94200
SECONDARY_SW_QUAD_XY: 658262.60100 5151451.76400
RMSE_XY: 2.26000
IMAGE_SOURCE: BLACK AND WHITE FILM
SOURCE_IMAGE_ID: NAPP 9147 85
SOURCE_IMAGE_DATE: 1996 08 24
SOURCE_DEM_DATE: 1975 00 00
AGENCY: WESTERN MAPPING CENTER (WMC)
PRODUCER: ANALYTICAL SURVEYS INC.
PRODUCTION_SYSTEM: ORBIT OR_RECTIFY V.5.2
COMPRESSION: UNDEFINED
STANDARD_VERSION: 1996 12
METADATA_DATE: 2001 05 18
DATA_FILE_SIZE: 43490040
BYTE_COUNT: 5640
