FILENAME: O4610825.SWS.1150790.tif
QUADRANGLE_NAME: EMORY SCHOOL
QUADRANT: SW
WEST_LONGITUDE: -109 0 0.00000
EAST_LONGITUDE: -108 56 15.00000
NORTH_LATITUDE: 46 33 45.00000
SOUTH_LATITUDE: 46 30 0.00000
PRODUCTION_DATE: 2001 05 18
RASTER_ORDER: LEFT_RIGHT/TOP_BOTTOM
BAND_ORGANIZATION: SINGLE FILE
BAND_CONTENT: BLACK&WHITE
BAND_CONTENT: UNDEFINED
BAND_CONTENT: UNDEFINED
BITS_PER_PIXEL: 8
SAMPLES_AND_LINES: 5640 7680
HORIZONTAL_DATUM: NAD83
HORIZONTAL_COORDINATE_SYSTEM: UTM
COORDINATE_ZONE: 12
HORIZONTAL_UNITS: METERS
HORIZONTAL_RESOLUTION: 1.00000
SECONDARY_HORIZONTAL_DATUM: NAD27
XY_ORIGIN: 652920.00000 5158920.00000
SECONDARY_XY_ORIGIN: 652979.44500 5158707.19000
NATION: US
STATE: MT
NW_QUAD_CORNER_XY: 653286.18400 5158491.21100
NE_QUAD_CORNER_XY: 658076.26800 5158614.57200
SE_QUAD_CORNERY_XY: 658257.77500 5151669.98100
SW_QUAD_CORNER_XY: 653462.18600 5151546.60500
SECONDARY_NW_QUAD_XY: 653290.86500 5158272.95600
SECONDARY_NE_QUAD_XY: 658081.09500 5158396.32100
SECONDARY_SE_QUAD_XY: 658262.60100 5151451.76400
SECONDARY_SW_QUAD_XY: 653466.86600 5151328.38500
RMSE_XY: 2.17000
IMAGE_SOURCE: BLACK AND WHITE FILM
SOURCE_IMAGE_ID: NAPP 9147 246
SOURCE_IMAGE_DATE: 1996 08 24
SOURCE_DEM_DATE: 1975 00 00
AGENCY: WESTERN MAPPING CENTER (WMC)
PRODUCER: ANALYTICAL SURVEYS INC.
PRODUCTION_SYSTEM: ORBIT OR_RECTIFY V.5.2
COMPRESSION: UNDEFINED
STANDARD_VERSION: 1996 12
METADATA_DATE: 2001 05 18
DATA_FILE_SIZE: 43320840
BYTE_COUNT: 5640
