FILENAME: O4610964.SES.1123013.tif
QUADRANGLE_NAME: HAILSTONE BASIN SE
QUADRANT: SE
WEST_LONGITUDE: -109 3 45.00000
EAST_LONGITUDE: -109 0 0.00000
NORTH_LATITUDE: 46 3 45.00000
SOUTH_LATITUDE: 46 0 0.00000
PRODUCTION_DATE: 2000 11 28
RASTER_ORDER: LEFT_RIGHT/TOP_BOTTOM
BAND_ORGANIZATION: SINGLE FILE
BAND_CONTENT: BLACK&WHITE
BAND_CONTENT: UNDEFINED
BAND_CONTENT: UNDEFINED
BITS_PER_PIXEL: 8
SAMPLES_AND_LINES: 5700 7680
HORIZONTAL_DATUM: NAD83
HORIZONTAL_COORDINATE_SYSTEM: UTM
COORDINATE_ZONE: 12
HORIZONTAL_UNITS: METERS
HORIZONTAL_RESOLUTION: 1.00000
SECONDARY_HORIZONTAL_DATUM: NAD27
XY_ORIGIN: 649470.00000 5103240.00000
SECONDARY_XY_ORIGIN: 649529.89700 5103028.88800
NATION: US
STATE: MT
NW_QUAD_CORNER_XY: 649855.08100 5102816.58500
NE_QUAD_CORNER_XY: 654689.04700 5102936.24100
SE_QUAD_CORNERY_XY: 654863.57300 5095992.17100
SW_QUAD_CORNER_XY: 650024.15000 5095872.50600
SECONDARY_NW_QUAD_XY: 649859.60900 5102598.62700
SECONDARY_NE_QUAD_XY: 654693.72000 5102718.28600
SECONDARY_SE_QUAD_XY: 654868.24600 5095774.25800
SECONDARY_SW_QUAD_XY: 650028.67600 5095654.58900
RMSE_XY: 1.82000
IMAGE_SOURCE: BLACK AND WHITE FILM
SOURCE_IMAGE_ID: NAPP 9129 90
SOURCE_IMAGE_DATE: 1996 07 27
SOURCE_DEM_DATE: 1985 00 00
AGENCY: WESTERN MAPPING CENTER (WMC)
PRODUCER: ANALYTICAL SURVEYS INC.
PRODUCTION_SYSTEM: ORBIT OR_RECTIFY V.5.2
COMPRESSION: UNDEFINED
STANDARD_VERSION: 1996 12
METADATA_DATE: 2000 11 29
DATA_FILE_SIZE: 43781700
BYTE_COUNT: 5700
