FILENAME: O4610962.NES.1123003.tif
QUADRANGLE_NAME: LOCOMOTIVE BUTTE SE
QUADRANT: NE
WEST_LONGITUDE: -109 18 45.00000
EAST_LONGITUDE: -109 15 0.00000
NORTH_LATITUDE: 46 7 30.00000
SOUTH_LATITUDE: 46 3 45.00000
PRODUCTION_DATE: 2000 11 28
RASTER_ORDER: LEFT_RIGHT/TOP_BOTTOM
BAND_ORGANIZATION: SINGLE FILE
BAND_CONTENT: BLACK&WHITE
BAND_CONTENT: UNDEFINED
BAND_CONTENT: UNDEFINED
BITS_PER_PIXEL: 8
SAMPLES_AND_LINES: 5670 7710
HORIZONTAL_DATUM: NAD83
HORIZONTAL_COORDINATE_SYSTEM: UTM
COORDINATE_ZONE: 12
HORIZONTAL_UNITS: METERS
HORIZONTAL_RESOLUTION: 1.00000
SECONDARY_HORIZONTAL_DATUM: NAD27
XY_ORIGIN: 630000.00000 5109750.00000
SECONDARY_XY_ORIGIN: 630060.14500 5109538.57600
NATION: US
STATE: MT
NW_QUAD_CORNER_XY: 630371.76000 5109320.15300
NE_QUAD_CORNER_XY: 635200.28800 5109424.59700
SE_QUAD_CORNERY_XY: 635353.14700 5102480.42400
SW_QUAD_CORNER_XY: 630519.15700 5102375.97100
SECONDARY_NW_QUAD_XY: 630375.70400 5109102.14200
SECONDARY_NE_QUAD_XY: 635204.37800 5109206.58900
SECONDARY_SE_QUAD_XY: 635357.23600 5102262.45600
SECONDARY_SW_QUAD_XY: 630523.10000 5102158.00000
RMSE_XY: 1.92000
IMAGE_SOURCE: BLACK AND WHITE FILM
SOURCE_IMAGE_ID: NAPP 9153 67
SOURCE_IMAGE_DATE: 1997 08 28
SOURCE_IMAGE_ID: NAPP 9153 69
SOURCE_IMAGE_DATE: 1997 08 28
SOURCE_IMAGE_ID: NAPP 9153 23
SOURCE_IMAGE_DATE: 1997 08 28
SOURCE_DEM_DATE: 1985 00 00
AGENCY: WESTERN MAPPING CENTER (WMC)
PRODUCER: ANALYTICAL SURVEYS INC.
PRODUCTION_SYSTEM: ORBIT OR_RECTIFY V.5.2
COMPRESSION: UNDEFINED
STANDARD_VERSION: 1996 12
METADATA_DATE: 2000 11 29
DATA_FILE_SIZE: 43721370
BYTE_COUNT: 5670
