FILENAME: O4610961.NES.1115301.tif
QUADRANGLE_NAME: LOCOMOTIVE BUTTE SW
QUADRANT: NE
WEST_LONGITUDE: -109 26 15.00000
EAST_LONGITUDE: -109 22 30.00000
NORTH_LATITUDE: 46 7 30.00000
SOUTH_LATITUDE: 46 3 45.00000
PRODUCTION_DATE: 2000 11 16
RASTER_ORDER: LEFT_RIGHT/TOP_BOTTOM
BAND_ORGANIZATION: SINGLE FILE
BAND_CONTENT: BLACK&WHITE
BAND_CONTENT: UNDEFINED
BAND_CONTENT: UNDEFINED
BITS_PER_PIXEL: 8
SAMPLES_AND_LINES: 5670 7680
HORIZONTAL_DATUM: NAD83
HORIZONTAL_COORDINATE_SYSTEM: UTM
COORDINATE_ZONE: 12
HORIZONTAL_UNITS: METERS
HORIZONTAL_RESOLUTION: 1.00000
SECONDARY_HORIZONTAL_DATUM: NAD27
XY_ORIGIN: 620340.00000 5109540.00000
SECONDARY_XY_ORIGIN: 620400.09600 5109328.46100
NATION: US
STATE: MT
NW_QUAD_CORNER_XY: 620714.68700 5109122.66500
NE_QUAD_CORNER_XY: 625543.22700 5109219.51000
SE_QUAD_CORNERY_XY: 625685.16100 5102275.31900
SW_QUAD_CORNER_XY: 620851.16000 5102178.46700
SECONDARY_NW_QUAD_XY: 620718.33900 5108904.64800
SECONDARY_NE_QUAD_XY: 625547.02400 5109001.49500
SECONDARY_SE_QUAD_XY: 625688.95800 5102057.34500
SECONDARY_SW_QUAD_XY: 620854.81100 5101960.49000
RMSE_XY: 1.29000
IMAGE_SOURCE: BLACK AND WHITE FILM
SOURCE_IMAGE_ID: NAPP 9153 164
SOURCE_IMAGE_DATE: 1997 08 28
SOURCE_IMAGE_ID: NAPP 9153 162
SOURCE_IMAGE_DATE: 1997 08 28
SOURCE_IMAGE_ID: NAPP 9153 166
SOURCE_IMAGE_DATE: 1997 08 28
SOURCE_DEM_DATE: 1985 00 00
AGENCY: WESTERN MAPPING CENTER (WMC)
PRODUCER: ANALYTICAL SURVEYS INC.
PRODUCTION_SYSTEM: ORBIT OR_RECTIFY V.5.2
COMPRESSION: UNDEFINED
STANDARD_VERSION: 1996 12
METADATA_DATE: 2000 11 17
DATA_FILE_SIZE: 43551270
BYTE_COUNT: 5670
